{"text_format":"1","workbook":"xlsx","n_sheets":11,"sheets":["Плитка,полосы-Импорт","Лист2","Плитка-производство Россия ","Полосы-производство Россия","Слэбы гранитные ","Лист4","Брусчатка","Лист5","Лист6","Профилирование","Инструмент"],"not_rendered":{"charts":0,"images":58,"macros":1,"external_links":0,"defined_names":13,"comments":0,"pivot_tables":0},"unopened":[],"bounds":{"document_bytes":16777216,"sheet_cells":100000,"rows_first":2000,"rows_last":500,"rows_between":2000,"halvings":0,"cell_chars":16384,"cell_head_chars":4096},"cells_cut":0,"cells_raw":0,"read":"whole","date_system":"1900"}

{"sheet":"Плитка,полосы-Импорт","index":0,"n_rows":42,"n_cols":10,"rows_kept":42,"cut":false,"hidden":false,"merged":[[25,0,27,0],[25,1,27,1],[29,0,31,0],[29,1,31,1],[32,0,34,0],[32,1,34,1],[9,0,11,0],[9,1,11,1],[15,0,17,0],[15,1,17,1],[22,0,24,0],[22,1,24,1],[12,0,14,0],[12,1,14,1],[18,0,20,0],[18,1,20,1]]}
[]
[]
[]
["ОПТОВЫЕ ЦЕНЫ",null,null,null,null,null,null,null,"Дата",{"$f":"TODAY()","v":"2025-06-01"}]
[null,null,null,null,null,null,null,null,"Курс USD",90]
[]
["Московская обл., г. Реутов, ул. Фабричная, 4",null,null,null,null,null,null,null,null,"sale@graniteh.ru"]
["тел: (495) 777-60-74, 645-70-95  /  WhatsApp: (926) 746-68-07 ",null,null,null,null,null,null,null,null,"http://www.graniteh.ru"]
["Плита, ступени, полуслэбы гранитные облицовочные, производство - Индия (высший сорт) ",null,null,null,null,null,null,null,null,"со склада в Москве (500 м от МКАД)"]
["Absolute Black      Абсолют Блэк",null,"300*600*18","4(6)00*600*18","350(400)*L*18","600*L*18","700*L*30","300*600*18","300*600*30","350*L*30"]
[null,null,"полировка","полировка","полировка","полировка","полировка/термо","термо","термо","термо"]
[null,null,{"$f":"Лист2!C13*'Плитка,полосы-Импорт'!$J$5/30","v":6120},{"$f":"Лист2!D13*'Плитка,полосы-Импорт'!$J$5/30","v":6750},{"$f":"Лист2!E13*'Плитка,полосы-Импорт'!$J$5/30","v":8550},{"$f":"Лист2!F13*'Плитка,полосы-Импорт'!$J$5/30","v":9000},{"$f":"Лист2!G13*'Плитка,полосы-Импорт'!$J$5/30","v":13950},{"$f":"Лист2!H13*'Плитка,полосы-Импорт'!$J$5/30","v":6120},{"$f":"Лист2!I13*'Плитка,полосы-Импорт'!$J$5/30","v":8550},{"$f":"Лист2!J13*'Плитка,полосы-Импорт'!$J$5/30","v":12150}]
["Imperial Red           Империал Рэд",null,"300*600*18","600*600*18","350(400)*L*18","600*L*18","700*L*30","300*600*18","300*600*30","350*L*30"]
[null,null,"полировка","полировка","полировка","полировка","полировка/термо","термо","термо","термо"]
[null,null,{"$f":"Лист2!C16*'Плитка,полосы-Импорт'!$J$5/30","v":5310},"-",{"$f":"Лист2!E16*'Плитка,полосы-Импорт'!$J$5/30","v":5850},{"$f":"Лист2!F16*'Плитка,полосы-Импорт'!$J$5/30","v":6390},{"$f":"Лист2!G16*'Плитка,полосы-Импорт'!$J$5/30","v":9990},{"$f":"Лист2!H16*'Плитка,полосы-Импорт'!$J$5/30","v":5310},{"$f":"Лист2!I16*'Плитка,полосы-Импорт'!$J$5/30","v":7380},{"$f":"Лист2!J16*'Плитка,полосы-Импорт'!$J$5/30","v":9090}]
["Stell Grey          Стил Грей",null,"300*600*18","600*600*18","350(400)*L*18","600*L*18","700*L*30","300*600*18","300*600*30","350*L*30"]
[null,null,"полировка","полировка","полировка","полировка","полировка/термо","термо","термо","термо"]
[null,null,{"$f":"Лист2!C19*'Плитка,полосы-Импорт'!$J$5/30","v":5310},"-","-",{"$f":"Лист2!F19*'Плитка,полосы-Импорт'!$J$5/30","v":6390},{"$f":"Лист2!G19*'Плитка,полосы-Импорт'!$J$5/30","v":9990},{"$f":"Лист2!H19*'Плитка,полосы-Импорт'!$J$5/30","v":5310},{"$f":"Лист2!I19*'Плитка,полосы-Импорт'!$J$5/30","v":7380},{"$f":"Лист2!J19*'Плитка,полосы-Импорт'!$J$5/30","v":9090}]
["Tan Brown          Тан Браун",null,"300*600*18","600*600*18","350(400)*L*18","600*L*18","700*L*30","300*600*18","300*600*30","350*L*30"]
[null,null,"полировка","полировка","полировка","полировка","полировка/термо","термо","термо","термо"]
[null,null,{"$f":"Лист2!C22*'Плитка,полосы-Импорт'!$J$5/30","v":5040},{"$f":"Лист2!D22*'Плитка,полосы-Импорт'!$J$5/30","v":5490},{"$f":"Лист2!E22*'Плитка,полосы-Импорт'!$J$5/30","v":5850},{"$f":"Лист2!F22*'Плитка,полосы-Импорт'!$J$5/30","v":6390},{"$f":"Лист2!G22*'Плитка,полосы-Импорт'!$J$5/30","v":9990},{"$f":"Лист2!H22*'Плитка,полосы-Импорт'!$J$5/30","v":5040},{"$f":"Лист2!I22*'Плитка,полосы-Импорт'!$J$5/30","v":7110},{"$f":"Лист2!J22*'Плитка,полосы-Импорт'!$J$5/30","v":9090}]
["Плита, ступени, полуслэбы гранитные облицовочные, производство - Иран (высший сорт) ",null,null,null,null,null,null,null,null,"со склада в Москве (500 м от МКАД)"]
["Royal White (I)       Роял Вайт (И)        G603(I)",null,"300*600*18","600*600*18","150-350*L*18","350*L*30","600*L*30","300*600*18","300*600*30","350*L*30"]
[null,null,"полировка","полировка","полировка","полировка","полировка/термо","термо","пол/термо","термо"]
[null,null,{"$f":"Лист2!C26*'Плитка,полосы-Импорт'!$J$5/30","v":3150},"-","-","-",{"$f":"Лист2!G26*'Плитка,полосы-Импорт'!$J$5/30","v":4680},{"$f":"Лист2!H26*'Плитка,полосы-Импорт'!$J$5/30","v":3150},{"$f":"Лист2!I26*'Плитка,полосы-Импорт'!$J$5/30","v":4410},{"$f":"Лист2!J26*'Плитка,полосы-Импорт'!$J$5/30","v":4590}]
["Нью Покоста          Iran Grey         ",null,"300*600*18","600*600*18","150-350*L*18","350*L*30","600*L*30","300*600*18","300*600*30","350*L*30"]
[null,null,"полировка","полировка","полировка","полировка","полировка/термо","термо","пол/термо","термо"]
[null,null,{"$f":"Лист2!C29*'Плитка,полосы-Импорт'!$J$5/30","v":3420},"-","-","-","-",{"$f":"Лист2!H29*'Плитка,полосы-Импорт'!$J$5/30","v":3420},"-","-"]
["Плита, ступени, полуслэбы гранитные облицовочные, производство - Китай (высший сорт) ",null,null,null,null,null,null,null,null,"со склада в Москве (500 м от МКАД)"]
["Bainbrook Brown \"Альтернатива\"      G664",null,"300*600*18","600*600*18","600*L*18","400*L*30","700*L*30","300*600*18","300*600*30","350*L*30"]
[null,null,"полировка","полировка","полировка","полировка","полировка/термо","термо","пол/термо","термо"]
[null,null,"-","-","-","-","-","-","-","2500р."]
["Royal White             \"Кантри\"                 G603",null,"300*600*18","600*600*18","600*L*18","400*L*30","700*L*30","300*600*18","300*600*30","350*L*30"]
[null,null,"полировка","полировка","полировка","полировка","полировка/термо","термо","термо","термо"]
[null,null,{"$f":"Лист2!C36*'Плитка,полосы-Импорт'!$J$5/30","v":3510},"-",{"$f":"Лист2!E36*'Плитка,полосы-Импорт'!$J$5/30","v":3870},"-",{"$f":"Лист2!G36*'Плитка,полосы-Импорт'!$J$5/30","v":5130},"2500р.",{"$f":"Лист2!I36*'Плитка,полосы-Импорт'!$J$5/30","v":4500},{"$f":"Лист2!J36*'Плитка,полосы-Импорт'!$J$5/30","v":4770}]
["Примечание:"]
["1. Цена указана за 1 квадратный метр продукции, включая упаковку и погрузку на транспортное средство клиента"]
["2. На партии продукции более 1000 м2 предоставляются скидки"]
["3. На партии продукции менее 10 м2 действует наценка - 10%"]
["4. На партии продукции более 10 м2, но менее 25 м2 действует наценка - 5%"]
["5. В случае значительного изменения курсов валют, при расчете стоимости применяется текущий биржевой курс доллара США "]
["6. На дополнительную услугу - переборка изделий, включая распаковку, пересортировку и повторную упаковку, действует наценка - 20%  "]

{"sheet":"Лист2","index":1,"n_rows":36,"n_cols":10,"rows_kept":36,"cut":false,"hidden":true,"merged":[[26,0,28,0],[26,1,28,1],[30,0,32,0],[30,1,32,1],[33,0,35,0],[33,1,35,1],[23,0,25,0],[23,1,25,1],[9,8,9,10],[10,0,12,0],[10,1,12,1],[19,0,21,0],[19,1,21,1],[13,0,15,0],[13,1,15,1],[9,2,9,4],[16,0,18,0]]}
[]
[]
[]
[]
[]
[]
[]
[]
[]
[]
["Absolute Black      Абсолют Блэк",null,"300*600*20","400*600*20",null,null,"700*L*30","300*600*20","300*600*30","350*L*30"]
[null,null,"полировка","полировка",null,null,"полировка","термо","термо","термо"]
[null,null,2040,2250,2850,3000,4650,2040,2850,4050]
["Imperial Red           Империал Рэд",null,"300*600*20","600*600*20",null,null,"700*L*30","300*600*20","300*600*30","700*L*30"]
[null,null,"полировка","полировка",null,null,"полировка","термо","термо","термо"]
[null,null,1770,1830,1950,2130,3330,1770,2460,3030]
["Stell Grey          Стил Грей",null,"300*600*20","600*600*20",null,null,"700*L*30","300*600*20","300*600*30","700*L*30"]
[null,null,"полировка","полировка",null,null,"полировка","термо","термо","термо"]
[null,null,1770,null,null,2130,3330,1770,2460,3030]
["Tan Brown          Тан Браун",null,"300*600*20","600*600*20",null,null,"700*L*30","300*600*20","300*600*30","350*L*30"]
[null,null,"полировка","полировка",null,null,"полировка","термо","термо","термо"]
[null,null,1680,1830,1950,2130,3330,1680,2370,3030]
[]
["Bhfy",null,"300*600*18","600*600*18","150-350*L*18","350*L*30","600*L*30","300*600*18","300*600*30","350*L*30"]
[null,null,"полировка","полировка","полировка","полировка","полировка","термо","пол/термо","термо"]
[null,null,1050,null,null,1530,1560,1050,1470,1530]
["Bhfy",null,"300*600*18","600*600*18","150-350*L*18","350*L*30","600*L*30","300*600*18","300*600*30","350*L*30"]
[null,null,"полировка","полировка","полировка","полировка","полировка","термо","пол/термо","термо"]
[null,null,1140,null,null,null,null,1140]
[]
["Bainbrook Brown \"Альтернатива\"      G664",null,"300*600*20","600*600*20","350*L*20","400*L*30","700*L*30","300*600*20","300*600*30","350*L*30"]
[null,null,"полировка","полировка","полировка","полировка","полировка","термо","пол/термо","термо"]
[null,null,990,1020,990,900,900,990,1440,1380]
["Royal White             \"Кантри\"                 G603",null,"300*600*20","600*600*20","350*L*20","400*L*30","700*L*30","300*600*20","300*600*30","350*L*30"]
[null,null,"полировка","полировка","полировка","полировка","полировка","термо","термо","термо"]
[null,null,1170,null,1290,null,1710,1170,1500,1590]

{"sheet":"Плитка-производство Россия ","index":2,"n_rows":146,"n_cols":7,"rows_kept":146,"cut":false,"hidden":false,"merged":[[122,1,124,1],[122,2,122,6],[58,2,58,6],[40,2,40,6],[43,2,43,6],[46,2,46,6],[49,0,51,0],[49,1,51,1],[49,2,49,6],[46,1,48,1],[98,0,100,0],[83,0,85,0],[83,1,85,1],[83,2,83,6],[52,2,52,6],[58,1,60,1],[58,0,60,0],[46,0,48,0],[61,2,61,6],[61,0,63,0],[61,1,63,1],[55,0,57,0],[55,1,57,1],[55,2,55,6],[131,2,131,6],[92,0,94,0],[92,1,94,1],[92,2,92,6],[95,0,97,0],[95,1,97,1],[95,2,95,6],[86,0,88,0],[86,1,88,1],[86,2,86,6],[89,0,91,0],[119,2,119,6],[128,0,130,0],[128,1,130,1],[128,2,128,6],[107,2,107,6],[119,1,121,1],[98,1,100,1],[98,2,98,6],[101,0,103,0],[101,2,101,6],[101,1,103,1],[89,2,89,6],[122,0,124,0],[10,2,10,6],[13,2,13,6],[19,2,19,6],[19,0,21,0],[19,1,21,1],[13,1,15,1],[13,0,15,0],[10,0,12,0],[10,1,12,1],[16,2,16,6],[16,0,18,0],[28,1,30,1],[52,0,54,0],[52,1,54,1],[22,2,22,6],[31,0,33,0],[40,1,42,1],[28,2,28,6],[37,1,39,1],[37,2,37,6],[40,0,42,0],[43,0,45,0],[43,1,45,1],[31,1,33,1],[22,0,24,0],[25,0,27,0],[25,1,27,1],[25,2,25,6],[22,1,24,1],[28,0,30,0],[31,2,31,6],[34,1,36,1],[34,0,36,0],[34,2,34,6],[37,0,39,0],[137,2,137,6],[125,0,127,0],[125,1,127,1],[125,2,125,6],[104,0,106,0],[104,1,106,1],[104,2,104,6],[116,0,118,0],[116,1,118,1],[116,2,116,6],[113,0,115,0],[113,1,115,1],[134,0,136,0],[134,1,136,1],[134,2,134,6],[113,2,113,6],[107,0,109,0],[110,0,112,0],[110,1,112,1],[110,2,110,6],[107,1,109,1],[119,0,121,0],[131,0,133,0],[131,1,133,1]]}
[]
[]
[]
["ОПТОВЫЕ ЦЕНЫ"]
[]
[]
["Московская обл., г. Реутов, ул. Фабричная, 4",null,null,null,null,null,"sale@graniteh.ru"]
["тел: (495) 777-60-74, 645-70-95  /  WhatsApp: (926) 746-68-07 ",null,null,null,null,null,"http://www.graniteh.ru"]
[]
["Плита и ступени гранитные собственного производства ",null,null,null,null,null,"со склада в г. Воскресенск (88км от МКАД)"]
["Ала-Носкуа   ",null,"300*600mm, 400*600mm, 300*300mm, 400*400mm"]
[null,null,"h = 20 mm","h = 30 mm","h = 40 mm","h = 50 mm","h = 60 mm"]
[null,null,4490,5390,6490,7390,8090]
["Возрождение    ",null,"300*600mm, 400*600mm, 300*300mm, 400*400mm"]
[null,null,"h = 20 mm","h = 30 mm","h = 40 mm","h = 50 mm","h = 60 mm"]
[null,null,5290,6290,7690,8790,9990]
["Гранатовый амфиболит Нигозеро",null,1]
[null,null,"h = 20 mm","h = 30 mm","h = 40 mm","h = 50 mm","h = 60 mm"]
[null,null,5690,7090,8690,9990,11190]
["Дымовский          (Елизовский)",null,"300*600mm, 400*600mm, 300*300mm, 400*400mm"]
[null,null,"h = 20 mm","h = 30 mm","h = 40 mm","h = 50 mm","h = 60 mm"]
[null,null,5290,6490,7690,8790,9990]
["Балтийский",null,"300*600mm, 400*600mm, 300*300mm, 400*400mm"]
[null,null,"h = 20 mm","h = 30 mm","h = 40 mm","h = 50 mm","h = 60 mm"]
[null,null,5490,6490,7890,8990,10190]
["Жалгыз",null,"300*600mm, 400*600mm, 300*300mm, 400*400mm"]
[null,null,"h = 20 mm","h = 30 mm","h = 40 mm","h = 50 mm","h = 60 mm"]
[null,null,3690,4290,4990,5590,6590]
["Жельтау-1",null,"300*600mm, 400*600mm, 300*300mm, 400*400mm"]
[null,null,"h = 20 mm","h = 30 mm","h = 40 mm","h = 50 mm","h = 60 mm"]
[null,null,4790,5590,6590,7490,8090]
["Жельтау-2А",null,"300*600mm, 400*600mm, 300*300mm, 400*400mm"]
[null,null,"h = 20 mm","h = 30 mm","h = 40 mm","h = 50 mm","h = 60 mm"]
[null,null,4790,5590,6590,7490,8090]
["Лабрадорит Волга Блю",null,"300*600mm, 400*600mm, 300*300mm, 400*400mm"]
[null,null,"h = 20 mm","h = 30 mm","h = 40 mm","h = 50 mm","h = 60 mm"]
[null,null,9990,12290,15990,18990,21890]
["Камбулатовский",null,"300*600mm, 400*600mm, 300*300mm, 400*400mm"]
[null,null,"h = 20 mm","h = 30 mm","h = 40 mm","h = 50 mm","h = 60 mm"]
[null,null,3590,4290,5090,5790,6290]
["Капустинский",null,"300*600mm, 400*600mm, 300*300mm, 400*400mm"]
[null,null,"h = 20 mm","h = 30 mm","h = 40 mm","h = 50 mm","h = 60 mm"]
[null,null,6990,8190,9990,11990,13990]
["Куртинский* ",null,"300*600mm, 400*600mm, 300*300mm, 400*400mm"]
[null,null,"h = 20 mm","h = 30 mm","h = 40 mm","h = 50 mm","h = 60 mm"]
[null,null,3790,4490,5290,5990,6490]
["Мансуровский",null,"300*600mm, 400*600mm, 300*300mm, 400*400mm"]
[null,null,"h = 20 mm","h = 30 mm","h = 40 mm","h = 50 mm","h = 60 mm"]
[null,null,4240,5140,6140,6890,7640]
["Неро Бухара",null,"300*600mm, 400*600mm, 300*300mm, 400*400mm"]
[null,null,"h = 20 mm","h = 30 mm","h = 40 mm","h = 50 mm","h = 60 mm"]
[null,null,4490,5390,6190,7190,8690]
["Покостовский",null,"300*600mm, 400*600mm, 300*300mm, 400*400mm"]
[null,null,"h = 20 mm","h = 30 mm","h = 40 mm","h = 50 mm","h = 60 mm"]
[null,null,5290,6290,7690,8890,9990]
["Сибирский",null,"300*600mm, 400*600mm, 300*300mm, 400*400mm"]
[null,null,"h = 20 mm","h = 30 mm","h = 40 mm","h = 50 mm","h = 60 mm"]
[null,null,4290,4990,6090,6990,7590]
["Южно-Султаевский",null,"300*600mm, 400*600mm, 300*300mm, 400*400mm"]
[null,null,"h = 20 mm","h = 30 mm","h = 40 mm","h = 50 mm","h = 60 mm"]
[null,null,4190,5090,5990,6790,7490]
["Габбро Другорецкое",null,"300*600mm, 400*600mm, 300*300mm, 400*400mm"]
[null,null,"h = 20 mm","h = 30 mm","h = 40 mm","h = 50 mm","h = 60 mm"]
[null,null,7990,10990,18690,22290,25690]
["Примечание:"]
["1. Цена указана за 1 квадратный метр продукции, включая упаковку и погрузку на транспортное средство клиента"]
["2. На партии продукции более 1000 м2 предоставляются сезонные скидки"]
["3. При заказе нестандартной длины плиты действует наценка - 20%"]
["4. На партии продукции менее 50 м2 действует наценка - 10%"]
["5. На партии продукции менее 25 м2 действует наценка - 20%"]
["6. * - Цена указана за сорт \"стандарт\", за цвет \"люкс-темный\" действует наценка - 10%"]
["7. На дополнительную услугу - переборка изделий, включая распаковку, пересортировку и повторную упаковку, действует наценка - 20%  "]
["8. При заказе длины и ширины менее 300 мм действует наценка - 5% "]
[]
[]
[]
["ОПТОВЫЕ ЦЕНЫ"]
[]
[]
["Московская обл., г. Реутов, ул. Фабричная, 4",null,null,null,null,null,"sale@graniteh.ru"]
["тел: (495) 777-60-74, 645-70-95  /  WhatsApp: (926) 746-68-07 ",null,null,null,null,null,"http://www.graniteh.ru"]
[]
["Плита и ступени гранитные собственного производства ",null,null,null,null,null,"со склада в г. Реутов (1 км от МКАД)"]
["Ала-Носкуа   ",null,"300*600mm, 400*600mm, 300*300mm, 400*400mm"]
[null,null,"h = 20 mm","h = 30 mm","h = 40 mm","h = 50 mm","h = 60 mm"]
[null,null,{"$f":"C13+400","v":4890},{"$f":"D13+600","v":5990},{"$f":"E13+800","v":7290},{"$f":"F13+1000","v":8390},{"$f":"G13+1200","v":9290}]
["Возрождение    ",null,"300*600mm, 400*600mm, 300*300mm, 400*400mm"]
[null,null,"h = 20 mm","h = 30 mm","h = 40 mm","h = 50 mm","h = 60 mm"]
[null,null,{"$f":"C16+400","v":5690},{"$f":"D16+600","v":6890},{"$f":"E16+800","v":8490},{"$f":"F16+1000","v":9790},{"$f":"G16+1200","v":11190}]
["Гранатовый амфиболит Нигозеро",null,"300*600mm, 400*600mm, 300*300mm, 400*400mm"]
[null,null,"h = 20 mm","h = 30 mm","h = 40 mm","h = 50 mm","h = 60 mm"]
[null,null,{"$f":"C19+400","v":6090},{"$f":"D19+600","v":7690},{"$f":"E19+800","v":9490},{"$f":"F19+1000","v":10990},{"$f":"G19+1200","v":12390}]
["Дымовский          (Елизовский)",null,"300*600mm, 400*600mm, 300*300mm, 400*400mm"]
[null,null,"h = 20 mm","h = 30 mm","h = 40 mm","h = 50 mm","h = 60 mm"]
[null,null,{"$f":"C22+400","v":5690},{"$f":"D22+600","v":7090},{"$f":"E22+800","v":8490},{"$f":"F22+1000","v":9790},{"$f":"G22+1200","v":11190}]
["Балтийский",null,"300*600mm, 400*600mm, 300*300mm, 400*400mm"]
[null,null,"h = 20 mm","h = 30 mm","h = 40 mm","h = 50 mm","h = 60 mm"]
[null,null,{"$f":"C25+400","v":5890},{"$f":"D25+600","v":7090},{"$f":"E25+800","v":8690},{"$f":"F25+1000","v":9990},{"$f":"G25+1200","v":11390}]
["Жалгыз",null,"300*600mm, 400*600mm, 300*300mm, 400*400mm"]
[null,null,"h = 20 mm","h = 30 mm","h = 40 mm","h = 50 mm","h = 60 mm"]
[null,null,{"$f":"C28+400","v":4090},{"$f":"D28+600","v":4890},{"$f":"E28+800","v":5790},{"$f":"F28+1000","v":6590},{"$f":"G28+1200","v":7790}]
["Жельтау-1",null,"300*600mm, 400*600mm, 300*300mm, 400*400mm"]
[null,null,"h = 20 mm","h = 30 mm","h = 40 mm","h = 50 mm","h = 60 mm"]
[null,null,{"$f":"C31+400","v":5190},{"$f":"D31+600","v":6190},{"$f":"E31+800","v":7390},{"$f":"F31+1000","v":8490},{"$f":"G31+1200","v":9290}]
["Жельтау-2А",null,"300*600mm, 400*600mm, 300*300mm, 400*400mm"]
[null,null,"h = 20 mm","h = 30 mm","h = 40 mm","h = 50 mm","h = 60 mm"]
[null,null,{"$f":"C34+400","v":5190},{"$f":"D34+600","v":6190},{"$f":"E34+800","v":7390},{"$f":"F34+1000","v":8490},{"$f":"G34+1200","v":9290}]
["Лабрадорит Волга Блю",null,"300*600mm, 400*600mm, 300*300mm, 400*400mm"]
[null,null,"h = 20 mm","h = 30 mm","h = 40 mm","h = 50 mm","h = 60 mm"]
[null,null,{"$f":"C37+400","v":10390},{"$f":"D37+600","v":12890},{"$f":"E37+800","v":16790},{"$f":"F37+1000","v":19990},{"$f":"G37+1200","v":23090}]
["Камбулатовский",null,"300*600mm, 400*600mm, 300*300mm, 400*400mm"]
[null,null,"h = 20 mm","h = 30 mm","h = 40 mm","h = 50 mm","h = 60 mm"]
[null,null,{"$f":"C40+400","v":3990},{"$f":"D40+600","v":4890},{"$f":"E40+800","v":5890},{"$f":"F40+1000","v":6790},{"$f":"G40+1200","v":7490}]
["Капустинский",null,"300*600mm, 400*600mm, 300*300mm, 400*400mm"]
[null,null,"h = 20 mm","h = 30 mm","h = 40 mm","h = 50 mm","h = 60 mm"]
[null,null,{"$f":"C43+400","v":7390},{"$f":"D43+600","v":8790},{"$f":"E43+800","v":10790},{"$f":"F43+1000","v":12990},{"$f":"G43+1200","v":15190}]
["Куртинский* ",null,"300*600mm, 400*600mm, 300*300mm, 400*400mm"]
[null,null,"h = 20 mm","h = 30 mm","h = 40 mm","h = 50 mm","h = 60 mm"]
[null,null,{"$f":"C46+400","v":4190},{"$f":"D46+600","v":5090},{"$f":"E46+800","v":6090},{"$f":"F46+1000","v":6990},{"$f":"G46+1200","v":7690}]
["Мансуровский",null,"300*600mm, 400*600mm, 300*300mm, 400*400mm"]
[null,null,"h = 20 mm","h = 30 mm","h = 40 mm","h = 50 mm","h = 60 mm"]
[null,null,{"$f":"C49+400","v":4640},{"$f":"D49+600","v":5740},{"$f":"E49+800","v":6940},{"$f":"F49+1000","v":7890},{"$f":"G49+1200","v":8840}]
["Неро Бухара",null,"300*600mm, 400*600mm, 300*300mm, 400*400mm"]
[null,null,"h = 20 mm","h = 30 mm","h = 40 mm","h = 50 mm","h = 60 mm"]
[null,null,{"$f":"C52+400","v":4890},{"$f":"D52+600","v":5990},{"$f":"E52+800","v":6990},{"$f":"F52+1000","v":8190},{"$f":"G52+1200","v":9890}]
["Покостовский",null,"300*600mm, 400*600mm, 300*300mm, 400*400mm"]
[null,null,"h = 20 mm","h = 30 mm","h = 40 mm","h = 50 mm","h = 60 mm"]
[null,null,{"$f":"C55+400","v":5690},{"$f":"D55+600","v":6890},{"$f":"E55+800","v":8490},{"$f":"F55+1000","v":9890},{"$f":"G55+1200","v":11190}]
["Сибирский",null,"300*600mm, 400*600mm, 300*300mm, 400*400mm"]
[null,null,"h = 20 mm","h = 30 mm","h = 40 mm","h = 50 mm","h = 60 mm"]
[null,null,{"$f":"C58+400","v":4690},4990,{"$f":"E58+800","v":6890},{"$f":"F58+1000","v":7990},{"$f":"G58+1200","v":8790}]
["Южно-Султаевский",null,"300*600mm, 400*600mm, 300*300mm, 400*400mm"]
[null,null,"h = 20 mm","h = 30 mm","h = 40 mm","h = 50 mm","h = 60 mm"]
[null,null,{"$f":"C61+400","v":4590},{"$f":"D61+600","v":5690},{"$f":"E61+800","v":6790},{"$f":"F61+1000","v":7790},{"$f":"G61+1200","v":8690}]
["Габбро Другорецкое",null,"300*600mm, 400*600mm, 300*300mm, 400*400mm"]
[null,null,"h = 20 mm","h = 30 mm","h = 40 mm","h = 50 mm","h = 60 mm"]
[null,null,7990,10990,{"$f":"E64+800","v":19490},{"$f":"F64+1000","v":23290},{"$f":"G64+1200","v":26890}]
["Примечание:"]
["1. Цена указана за 1 квадратный метр продукции, включая упаковку и погрузку на транспортное средство клиента"]
["2. На партии продукции более 1000 м2 предоставляются сезонные скидки"]
["3. При заказе нестандартной длины плиты действует наценка - 20%"]
["4. На партии продукции менее 50 м2 действует наценка - 10%"]
["5. На партии продукции менее 25 м2 действует наценка - 20%"]
["6. * - Цена указана за сорт \"стандарт\", за цвет \"люкс-темный\" действует наценка - 10%"]
["7. На дополнительную услугу - переборка изделий, включая распаковку, пересортировку и повторную упаковку, действует наценка - 20%  "]
["8. При заказе длины и ширины менее 300 мм действует наценка - 5% "]

{"sheet":"Полосы-производство Россия","index":3,"n_rows":147,"n_cols":8,"rows_kept":147,"cut":false,"hidden":false,"merged":[[40,0,42,0],[40,1,42,1],[61,0,63,0],[61,1,63,1],[49,0,51,0],[49,1,51,1],[55,0,57,0],[55,1,57,1],[46,0,48,0],[46,1,48,1],[43,0,45,0],[43,1,45,1],[52,0,54,0],[52,1,54,1],[25,0,27,0],[25,1,27,1],[37,0,39,0],[37,1,39,1],[28,0,30,0],[28,1,30,1],[31,0,33,0],[31,1,33,1],[34,0,36,0],[34,1,36,1],[10,0,12,0],[10,1,12,1],[13,0,15,0],[13,1,15,1],[22,0,24,0],[22,1,24,1],[19,0,21,0],[19,1,21,1],[16,0,18,0],[136,0,138,0],[136,1,138,1],[118,0,120,0],[118,1,120,1],[121,0,123,0],[121,1,123,1],[133,0,135,0],[133,1,135,1],[130,0,132,0],[130,1,132,1],[127,0,129,0],[127,1,129,1],[124,0,126,0],[124,1,126,1],[85,1,87,1],[85,0,87,0],[58,0,60,0],[58,1,60,1],[94,1,96,1],[94,0,96,0],[91,0,93,0],[88,1,90,1],[88,0,90,0],[100,0,102,0],[100,1,102,1],[97,0,99,0],[115,0,117,0],[115,1,117,1],[97,1,99,1],[112,0,114,0],[112,1,114,1],[103,0,105,0],[103,1,105,1],[106,0,108,0],[106,1,108,1],[109,0,111,0],[109,1,111,1]]}
[]
[]
["ОПТОВЫЕ ЦЕНЫ "]
[]
[]
["Московская обл., г. Реутов, ул. Фабричная, 4",null,null,null,null,null,null,"sale@graniteh.ru"]
["тел: (495) 777-60-74, 645-70-95  /  WhatsApp: (926) 746-68-07 ",null,null,null,null,null,null,"http://www.graniteh.ru"]
[]
["Полосы, ступени и полуслэбы гранитные собственного производства ",null,null,null,null,null,null,"со склада в г. Воскресенск (88км от МКАД)"]
["Гранит","Фото","Ширина полос","h = 20 mm","h = 30 mm","h = 40 mm","h = 50 mm","h = 60 mm"]
["Ала-Носкуа   ",null,"300xL,350хL,400xL",{"$f":"('Плитка-производство Россия '!C13)*1.15","v":5163.5},{"$f":"('Плитка-производство Россия '!D13)*1.15","v":6198.4999999999991},{"$f":"('Плитка-производство Россия '!E13)*1.15","v":7463.4999999999991},{"$f":"('Плитка-производство Россия '!F13)*1.15","v":8498.5},{"$f":"('Плитка-производство Россия '!G13)*1.15","v":9303.5}]
[null,null,"500xL,600хL",{"$f":"('Плитка-производство Россия '!C13)*1.2","v":5388},{"$f":"('Плитка-производство Россия '!D13)*1.2","v":6468},{"$f":"('Плитка-производство Россия '!E13)*1.2","v":7788},{"$f":"('Плитка-производство Россия '!F13)*1.2","v":8868},{"$f":"('Плитка-производство Россия '!G13)*1.2","v":9708}]
[null,null,"700xL",{"$f":"('Плитка-производство Россия '!C13)*1.3","v":5837},{"$f":"('Плитка-производство Россия '!D13)*1.3","v":7007},{"$f":"('Плитка-производство Россия '!E13)*1.3","v":8437},{"$f":"('Плитка-производство Россия '!F13)*1.3","v":9607},{"$f":"('Плитка-производство Россия '!G13)*1.3","v":10517}]
["Возрождение    ",null,"300xL,350хL,400xL",{"$f":"('Плитка-производство Россия '!C16)*1.15","v":6083.4999999999991},{"$f":"('Плитка-производство Россия '!D16)*1.15","v":7233.4999999999991},{"$f":"('Плитка-производство Россия '!E16)*1.15","v":8843.5},{"$f":"('Плитка-производство Россия '!F16)*1.15","v":10108.5},{"$f":"('Плитка-производство Россия '!G16)*1.15","v":11488.5}]
[null,null,"500xL,600хL",{"$f":"('Плитка-производство Россия '!C16)*1.2","v":6348},{"$f":"('Плитка-производство Россия '!D16)*1.2","v":7548},{"$f":"('Плитка-производство Россия '!E16)*1.2","v":9228},{"$f":"('Плитка-производство Россия '!F16)*1.2","v":10548},{"$f":"('Плитка-производство Россия '!G16)*1.2","v":11988}]
[null,null,"700xL",{"$f":"('Плитка-производство Россия '!C16)*1.3","v":6877},{"$f":"('Плитка-производство Россия '!D16)*1.3","v":8177},{"$f":"('Плитка-производство Россия '!E16)*1.3","v":9997},{"$f":"('Плитка-производство Россия '!F16)*1.3","v":11427},{"$f":"('Плитка-производство Россия '!G16)*1.3","v":12987}]
["Гранатовый амфиболит Нигозеро",null,"300xL,350хL,400xL",{"$f":"('Плитка-производство Россия '!C19)*1.15","v":6543.4999999999991},{"$f":"('Плитка-производство Россия '!D19)*1.15","v":8153.4999999999991},{"$f":"('Плитка-производство Россия '!E19)*1.15","v":9993.5},{"$f":"('Плитка-производство Россия '!F19)*1.15","v":11488.5},{"$f":"('Плитка-производство Россия '!G19)*1.15","v":12868.499999999998}]
[null,null,"500xL,600хL",{"$f":"('Плитка-производство Россия '!C19)*1.2","v":6828},{"$f":"('Плитка-производство Россия '!D19)*1.2","v":8508},{"$f":"('Плитка-производство Россия '!E19)*1.2","v":10428},{"$f":"('Плитка-производство Россия '!F19)*1.2","v":11988},{"$f":"('Плитка-производство Россия '!G19)*1.2","v":13428}]
[null,null,"700xL",{"$f":"('Плитка-производство Россия '!C19)*1.3","v":7397},{"$f":"('Плитка-производство Россия '!D19)*1.3","v":9217},{"$f":"('Плитка-производство Россия '!E19)*1.3","v":11297},{"$f":"('Плитка-производство Россия '!F19)*1.3","v":12987},{"$f":"('Плитка-производство Россия '!G19)*1.3","v":14547}]
["Дымовский          (Елизовский)",null,"300xL,350хL,400xL",{"$f":"('Плитка-производство Россия '!C22)*1.15","v":6083.4999999999991},{"$f":"5990*1.15","v":6888.4999999999991},{"$f":"('Плитка-производство Россия '!E22)*1.15","v":8843.5},{"$f":"('Плитка-производство Россия '!F22)*1.15","v":10108.5},{"$f":"('Плитка-производство Россия '!G22)*1.15","v":11488.5}]
[null,null,"500xL,600хL",{"$f":"('Плитка-производство Россия '!C22)*1.2","v":6348},{"$f":"5990*1.2","v":7188},{"$f":"('Плитка-производство Россия '!E22)*1.2","v":9228},{"$f":"('Плитка-производство Россия '!F22)*1.2","v":10548},{"$f":"('Плитка-производство Россия '!G22)*1.2","v":11988}]
[null,null,"700xL",{"$f":"('Плитка-производство Россия '!C22)*1.3","v":6877},{"$f":"5990*1.3","v":7787},{"$f":"('Плитка-производство Россия '!E22)*1.3","v":9997},{"$f":"('Плитка-производство Россия '!F22)*1.3","v":11427},{"$f":"('Плитка-производство Россия '!G22)*1.3","v":12987}]
["Балтийский",null,"300xL,350хL,400xL",{"$f":"('Плитка-производство Россия '!C25)*1.15","v":6313.4999999999991},{"$f":"('Плитка-производство Россия '!D25)*1.15","v":7463.4999999999991},{"$f":"('Плитка-производство Россия '!E25)*1.15","v":9073.5},{"$f":"('Плитка-производство Россия '!F25)*1.15","v":10338.5},{"$f":"('Плитка-производство Россия '!G25)*1.15","v":11718.5}]
[null,null,"500xL,600хL",{"$f":"('Плитка-производство Россия '!C25)*1.2","v":6588},{"$f":"('Плитка-производство Россия '!D25)*1.2","v":7788},{"$f":"('Плитка-производство Россия '!E25)*1.2","v":9468},{"$f":"('Плитка-производство Россия '!F25)*1.2","v":10788},{"$f":"('Плитка-производство Россия '!G25)*1.2","v":12228}]
[null,null,"700xL",{"$f":"('Плитка-производство Россия '!C25)*1.3","v":7137},{"$f":"('Плитка-производство Россия '!D25)*1.3","v":8437},{"$f":"('Плитка-производство Россия '!E25)*1.3","v":10257},{"$f":"('Плитка-производство Россия '!F25)*1.3","v":11687},{"$f":"('Плитка-производство Россия '!G25)*1.3","v":13247}]
["Жалгыз",null,"300xL,350хL,400xL",{"$f":"('Плитка-производство Россия '!C28)*1.15","v":4243.5},{"$f":"('Плитка-производство Россия '!D28)*1.15","v":4933.5},{"$f":"('Плитка-производство Россия '!E28)*1.15","v":5738.5},{"$f":"('Плитка-производство Россия '!F28)*1.15","v":6428.4999999999991},{"$f":"('Плитка-производство Россия '!G28)*1.15","v":7578.4999999999991}]
[null,null,"500xL,600хL",{"$f":"('Плитка-производство Россия '!C28)*1.2","v":4428},{"$f":"('Плитка-производство Россия '!D28)*1.2","v":5148},{"$f":"('Плитка-производство Россия '!E28)*1.2","v":5988},{"$f":"('Плитка-производство Россия '!F28)*1.2","v":6708},{"$f":"('Плитка-производство Россия '!G28)*1.2","v":7908}]
[null,null,"700xL",{"$f":"('Плитка-производство Россия '!C28)*1.3","v":4797},{"$f":"('Плитка-производство Россия '!D28)*1.3","v":5577},{"$f":"('Плитка-производство Россия '!E28)*1.3","v":6487},{"$f":"('Плитка-производство Россия '!F28)*1.3","v":7267},{"$f":"('Плитка-производство Россия '!G28)*1.3","v":8567}]
["Жельтау-1",null,"300xL,350хL,400xL",{"$f":"('Плитка-производство Россия '!C31)*1.15","v":5508.5},{"$f":"('Плитка-производство Россия '!D31)*1.15","v":6428.4999999999991},{"$f":"('Плитка-производство Россия '!E31)*1.15","v":7578.4999999999991},{"$f":"('Плитка-производство Россия '!F31)*1.15","v":8613.5},{"$f":"('Плитка-производство Россия '!G31)*1.15","v":9303.5}]
[null,null,"500xL,600хL",{"$f":"('Плитка-производство Россия '!C31)*1.2","v":5748},{"$f":"('Плитка-производство Россия '!D31)*1.2","v":6708},{"$f":"('Плитка-производство Россия '!E31)*1.2","v":7908},{"$f":"('Плитка-производство Россия '!F31)*1.2","v":8988},{"$f":"('Плитка-производство Россия '!G31)*1.2","v":9708}]
[null,null,"700xL",{"$f":"('Плитка-производство Россия '!C31)*1.3","v":6227},{"$f":"('Плитка-производство Россия '!D31)*1.3","v":7267},{"$f":"('Плитка-производство Россия '!E31)*1.3","v":8567},{"$f":"('Плитка-производство Россия '!F31)*1.3","v":9737},{"$f":"('Плитка-производство Россия '!G31)*1.3","v":10517}]
["Жельтау-2А",null,"300xL,350хL,400xL",{"$f":"('Плитка-производство Россия '!C34)*1.15","v":5508.5},{"$f":"('Плитка-производство Россия '!D34)*1.15","v":6428.4999999999991},{"$f":"('Плитка-производство Россия '!E34)*1.15","v":7578.4999999999991},{"$f":"('Плитка-производство Россия '!F34)*1.15","v":8613.5},{"$f":"('Плитка-производство Россия '!G34)*1.15","v":9303.5}]
[null,null,"500xL,600хL",{"$f":"('Плитка-производство Россия '!C34)*1.2","v":5748},{"$f":"('Плитка-производство Россия '!D34)*1.2","v":6708},{"$f":"('Плитка-производство Россия '!E34)*1.2","v":7908},{"$f":"('Плитка-производство Россия '!F34)*1.2","v":8988},{"$f":"('Плитка-производство Россия '!G34)*1.2","v":9708}]
[null,null,"700xL",{"$f":"('Плитка-производство Россия '!C34)*1.3","v":6227},{"$f":"('Плитка-производство Россия '!D34)*1.3","v":7267},{"$f":"('Плитка-производство Россия '!E34)*1.3","v":8567},{"$f":"('Плитка-производство Россия '!F34)*1.3","v":9737},{"$f":"('Плитка-производство Россия '!G34)*1.3","v":10517}]
["Лабрадорит Волга Блю",null,"300xL,350хL,400xL",{"$f":"('Плитка-производство Россия '!C37)*1.15","v":11488.5},{"$f":"('Плитка-производство Россия '!D37)*1.15","v":14133.499999999998},{"$f":"('Плитка-производство Россия '!E37)*1.15","v":18388.5},{"$f":"('Плитка-производство Россия '!F37)*1.15","v":21838.5},{"$f":"('Плитка-производство Россия '!G37)*1.15","v":25173.499999999996}]
[null,null,"500xL,600хL",{"$f":"('Плитка-производство Россия '!C37)*1.2","v":11988},{"$f":"('Плитка-производство Россия '!D37)*1.2","v":14748},{"$f":"('Плитка-производство Россия '!E37)*1.2","v":19188},{"$f":"('Плитка-производство Россия '!F37)*1.2","v":22788},{"$f":"('Плитка-производство Россия '!G37)*1.2","v":26268}]
[null,null,"700xL",{"$f":"('Плитка-производство Россия '!C37)*1.3","v":12987},{"$f":"('Плитка-производство Россия '!D37)*1.3","v":15977},{"$f":"('Плитка-производство Россия '!E37)*1.3","v":20787},{"$f":"('Плитка-производство Россия '!F37)*1.3","v":24687},{"$f":"('Плитка-производство Россия '!G37)*1.3","v":28457}]
["Камбулатовский",null,"300xL,350хL,400xL",{"$f":"('Плитка-производство Россия '!C40)*1.15","v":4128.5},{"$f":"('Плитка-производство Россия '!D40)*1.15","v":4933.5},{"$f":"('Плитка-производство Россия '!E40)*1.15","v":5853.5},{"$f":"('Плитка-производство Россия '!F40)*1.15","v":6658.4999999999991},{"$f":"('Плитка-производство Россия '!G40)*1.15","v":7233.4999999999991}]
[null,null,"500xL,600хL",{"$f":"('Плитка-производство Россия '!C40)*1.2","v":4308},{"$f":"('Плитка-производство Россия '!D40)*1.2","v":5148},{"$f":"('Плитка-производство Россия '!E40)*1.2","v":6108},{"$f":"('Плитка-производство Россия '!F40)*1.2","v":6948},{"$f":"('Плитка-производство Россия '!G40)*1.2","v":7548}]
[null,null,"700xL",{"$f":"('Плитка-производство Россия '!C40)*1.3","v":4667},{"$f":"('Плитка-производство Россия '!D40)*1.3","v":5577},{"$f":"('Плитка-производство Россия '!E40)*1.3","v":6617},{"$f":"('Плитка-производство Россия '!F40)*1.3","v":7527},{"$f":"('Плитка-производство Россия '!G40)*1.3","v":8177}]
["Капустинский",null,"300xL,350хL,400xL",{"$f":"('Плитка-производство Россия '!C43)*1.15","v":8038.4999999999991},{"$f":"('Плитка-производство Россия '!D43)*1.15","v":9418.5},{"$f":"('Плитка-производство Россия '!E43)*1.15","v":11488.5},{"$f":"('Плитка-производство Россия '!F43)*1.15","v":13788.499999999998},{"$f":"('Плитка-производство Россия '!G43)*1.15","v":16088.499999999998}]
[null,null,"500xL,600хL",{"$f":"('Плитка-производство Россия '!C43)*1.2","v":8388},{"$f":"('Плитка-производство Россия '!D43)*1.2","v":9828},{"$f":"('Плитка-производство Россия '!E43)*1.2","v":11988},{"$f":"('Плитка-производство Россия '!F43)*1.2","v":14388},{"$f":"('Плитка-производство Россия '!G43)*1.2","v":16788}]
[null,null,"700xL",{"$f":"('Плитка-производство Россия '!C43)*1.3","v":9087},{"$f":"('Плитка-производство Россия '!D43)*1.3","v":10647},{"$f":"('Плитка-производство Россия '!E43)*1.3","v":12987},{"$f":"('Плитка-производство Россия '!F43)*1.3","v":15587},{"$f":"('Плитка-производство Россия '!G43)*1.3","v":18187}]
["Куртинский* ",null,"300xL,350хL,400xL",{"$f":"('Плитка-производство Россия '!C46)*1.15","v":4358.5},{"$f":"('Плитка-производство Россия '!D46)*1.15","v":5163.5},{"$f":"('Плитка-производство Россия '!E46)*1.15","v":6083.4999999999991},{"$f":"('Плитка-производство Россия '!F46)*1.15","v":6888.4999999999991},{"$f":"('Плитка-производство Россия '!G46)*1.15","v":7463.4999999999991}]
[null,null,"500xL,600хL",{"$f":"('Плитка-производство Россия '!C46)*1.2","v":4548},{"$f":"('Плитка-производство Россия '!D46)*1.2","v":5388},{"$f":"('Плитка-производство Россия '!E46)*1.2","v":6348},{"$f":"('Плитка-производство Россия '!F46)*1.2","v":7188},{"$f":"('Плитка-производство Россия '!G46)*1.2","v":7788}]
[null,null,"700xL",{"$f":"('Плитка-производство Россия '!C46)*1.3","v":4927},{"$f":"('Плитка-производство Россия '!D46)*1.3","v":5837},{"$f":"('Плитка-производство Россия '!E46)*1.3","v":6877},{"$f":"('Плитка-производство Россия '!F46)*1.3","v":7787},{"$f":"('Плитка-производство Россия '!G46)*1.3","v":8437}]
["Мансуровский",null,"300xL,350хL,400xL",{"$f":"('Плитка-производство Россия '!C49)*1.15","v":4876},{"$f":"('Плитка-производство Россия '!D49)*1.15","v":5910.9999999999991},{"$f":"('Плитка-производство Россия '!E49)*1.15","v":7060.9999999999991},{"$f":"('Плитка-производство Россия '!F49)*1.15","v":7923.4999999999991},{"$f":"('Плитка-производство Россия '!G49)*1.15","v":8786}]
[null,null,"500xL,600хL",{"$f":"('Плитка-производство Россия '!C49)*1.2","v":5088},{"$f":"('Плитка-производство Россия '!D49)*1.2","v":6168},{"$f":"('Плитка-производство Россия '!E49)*1.2","v":7368},{"$f":"('Плитка-производство Россия '!F49)*1.2","v":8268},{"$f":"('Плитка-производство Россия '!G49)*1.2","v":9168}]
[null,null,"700xL",{"$f":"('Плитка-производство Россия '!C49)*1.3","v":5512},{"$f":"('Плитка-производство Россия '!D49)*1.3","v":6682},{"$f":"('Плитка-производство Россия '!E49)*1.3","v":7982},{"$f":"('Плитка-производство Россия '!F49)*1.3","v":8957},{"$f":"('Плитка-производство Россия '!G49)*1.3","v":9932}]
["Неро Бухара",null,"300xL,350хL,400xL",{"$f":"('Плитка-производство Россия '!C52)*1.15","v":5163.5},{"$f":"('Плитка-производство Россия '!D52)*1.15","v":6198.4999999999991},{"$f":"('Плитка-производство Россия '!E52)*1.15","v":7118.4999999999991},{"$f":"('Плитка-производство Россия '!F52)*1.15","v":8268.5},{"$f":"('Плитка-производство Россия '!G52)*1.15","v":9993.5}]
[null,null,"500xL,600хL",{"$f":"('Плитка-производство Россия '!C52)*1.2","v":5388},{"$f":"('Плитка-производство Россия '!D52)*1.2","v":6468},{"$f":"('Плитка-производство Россия '!E52)*1.2","v":7428},{"$f":"('Плитка-производство Россия '!F52)*1.2","v":8628},{"$f":"('Плитка-производство Россия '!G52)*1.2","v":10428}]
[null,null,"700xL",{"$f":"('Плитка-производство Россия '!C52)*1.3","v":5837},{"$f":"('Плитка-производство Россия '!D52)*1.3","v":7007},{"$f":"('Плитка-производство Россия '!E52)*1.3","v":8047},{"$f":"('Плитка-производство Россия '!F52)*1.3","v":9347},{"$f":"('Плитка-производство Россия '!G52)*1.3","v":11297}]
["Покостовский",null,"300xL,350хL,400xL",{"$f":"('Плитка-производство Россия '!C55)*1.15","v":6083.4999999999991},{"$f":"('Плитка-производство Россия '!D55)*1.15","v":7233.4999999999991},{"$f":"('Плитка-производство Россия '!E55)*1.15","v":8843.5},{"$f":"('Плитка-производство Россия '!F55)*1.15","v":10223.5},{"$f":"('Плитка-производство Россия '!G55)*1.15","v":11488.5}]
[null,null,"500xL,600хL",{"$f":"('Плитка-производство Россия '!C55)*1.2","v":6348},{"$f":"('Плитка-производство Россия '!D55)*1.2","v":7548},{"$f":"('Плитка-производство Россия '!E55)*1.2","v":9228},{"$f":"('Плитка-производство Россия '!F55)*1.2","v":10668},{"$f":"('Плитка-производство Россия '!G55)*1.2","v":11988}]
[null,null,"700xL",{"$f":"('Плитка-производство Россия '!C55)*1.3","v":6877},{"$f":"('Плитка-производство Россия '!D55)*1.3","v":8177},{"$f":"('Плитка-производство Россия '!E55)*1.3","v":9997},{"$f":"('Плитка-производство Россия '!F55)*1.3","v":11557},{"$f":"('Плитка-производство Россия '!G55)*1.3","v":12987}]
["Сибирский",null,"300xL,350хL,400xL",{"$f":"('Плитка-производство Россия '!C58)*1.15","v":4933.5},{"$f":"5190*1.15","v":5968.4999999999991},{"$f":"('Плитка-производство Россия '!E58)*1.15","v":7003.4999999999991},{"$f":"('Плитка-производство Россия '!F58)*1.15","v":8038.4999999999991},{"$f":"('Плитка-производство Россия '!G58)*1.15","v":8728.5}]
[null,null,"500xL,550xL,600хL",{"$f":"('Плитка-производство Россия '!C58)*1.2","v":5148},{"$f":"5190*1.2","v":6228},{"$f":"('Плитка-производство Россия '!E58)*1.2","v":7308},{"$f":"('Плитка-производство Россия '!F58)*1.2","v":8388},{"$f":"('Плитка-производство Россия '!G58)*1.2","v":9108}]
[null,null,"650xL,700xL",{"$f":"('Плитка-производство Россия '!C58)*1.3","v":5577},{"$f":"5190*1.3","v":6747},{"$f":"('Плитка-производство Россия '!E58)*1.3","v":7917},{"$f":"('Плитка-производство Россия '!F58)*1.3","v":9087},{"$f":"('Плитка-производство Россия '!G58)*1.3","v":9867}]
["Южно-Султаевский",null,"300xL,350хL,400xL",{"$f":"('Плитка-производство Россия '!C61)*1.15","v":4818.5},{"$f":"('Плитка-производство Россия '!D61)*1.15","v":5853.5},{"$f":"('Плитка-производство Россия '!E61)*1.15","v":6888.4999999999991},{"$f":"('Плитка-производство Россия '!F61)*1.15","v":7808.4999999999991},{"$f":"('Плитка-производство Россия '!G61)*1.15","v":8613.5}]
[null,null,"500xL,550xL,600хL",{"$f":"('Плитка-производство Россия '!C61)*1.2","v":5028},{"$f":"('Плитка-производство Россия '!D61)*1.2","v":6108},{"$f":"('Плитка-производство Россия '!E61)*1.2","v":7188},{"$f":"('Плитка-производство Россия '!F61)*1.2","v":8148},{"$f":"('Плитка-производство Россия '!G61)*1.2","v":8988}]
[null,null,"650xL,700xL",{"$f":"('Плитка-производство Россия '!C61)*1.3","v":5447},{"$f":"('Плитка-производство Россия '!D61)*1.3","v":6617},{"$f":"('Плитка-производство Россия '!E61)*1.3","v":7787},{"$f":"('Плитка-производство Россия '!F61)*1.3","v":8827},{"$f":"('Плитка-производство Россия '!G61)*1.3","v":9737}]
["Габбро Другорецкое",null,"300xL,350хL,400xL",10490,{"$f":"('Плитка-производство Россия '!D64)*1.15","v":12638.499999999998},{"$f":"('Плитка-производство Россия '!E64)*1.15","v":21493.5},{"$f":"('Плитка-производство Россия '!F64)*1.15","v":25633.499999999996},{"$f":"('Плитка-производство Россия '!G64)*1.15","v":29543.499999999996}]
[null,null,"500xL,550xL,600хL",{"$f":"10390*1.2","v":12468},{"$f":"('Плитка-производство Россия '!D64)*1.2","v":13188},{"$f":"('Плитка-производство Россия '!E64)*1.2","v":22428},{"$f":"('Плитка-производство Россия '!F64)*1.2","v":26748},{"$f":"('Плитка-производство Россия '!G64)*1.2","v":30828}]
[null,null,"650xL,700xL",{"$f":"10390*1.3","v":13507},{"$f":"('Плитка-производство Россия '!D64)*1.3","v":14287},{"$f":"('Плитка-производство Россия '!E64)*1.3","v":24297},{"$f":"('Плитка-производство Россия '!F64)*1.3","v":28977},{"$f":"('Плитка-производство Россия '!G64)*1.3","v":33397}]
["Примечание:"]
["1. Цена указана за 1 квадратный метр продукции, включая упаковку и погрузку на транспортное средство клиента"]
["2. На партии продукции более 1000 м2 предоставляются сезонные скидки"]
["3. При заказе нестандартной длины полосы действует наценка - 20%"]
["4. На партии продукции менее 50 м2 действует наценка - 10%"]
["5. На партии продукции менее 25 м2 действует наценка - 20%"]
["6. * - Цена указана за сорт \"стандарт\", за цвет \"люкс-темный\" действует наценка - 10%"]
["7. На дополнительную услугу - переборка изделий, включая распаковку, пересортировку и повторную упаковку, действует наценка - 20%  "]
[]
[]
[]
[]
["ОПТОВЫЕ ЦЕНЫ "]
[]
[]
["Московская обл., г. Реутов, ул. Фабричная, 4",null,null,null,null,null,null,"sale@graniteh.ru"]
["тел: (495) 777-60-74, 645-70-95  /  WhatsApp: (926) 746-68-07 ",null,null,null,null,null,null,"http://www.graniteh.ru"]
[]
["Полосы, ступени и полуслэбы гранитные собственного производства "]
[null,null,null,null,null,null,null,"со склада в г. Реутов (1км от МКАД)"]
["Гранит","Фото","Ширина полос","h = 20 mm","h = 30 mm","h = 40 mm","h = 50 mm","h = 60 mm"]
["Ала-Носкуа   ",null,"300xL,350хL,400xL",{"$f":"D11+400","v":5563.5},{"$f":"E11+600","v":6798.4999999999991},{"$f":"F11+800","v":8263.5},{"$f":"G11+1000","v":9498.5},{"$f":"H11+1200","v":10503.5}]
[null,null,"500xL,600хL",{"$f":"D12+400","v":5788},{"$f":"E12+600","v":7068},{"$f":"F12+800","v":8588},{"$f":"G12+1000","v":9868},{"$f":"H12+1200","v":10908}]
[null,null,"700xL",{"$f":"D13+400","v":6237},{"$f":"E13+600","v":7607},{"$f":"F13+800","v":9237},{"$f":"G13+1000","v":10607},{"$f":"H13+1200","v":11717}]
["Возрождение    ",null,"300xL,350хL,400xL",{"$f":"D14+400","v":6483.4999999999991},{"$f":"E14+600","v":7833.4999999999991},{"$f":"F14+800","v":9643.5},{"$f":"G14+1000","v":11108.5},{"$f":"H14+1200","v":12688.5}]
[null,null,"500xL,600хL",6748,8148,10028,11548,13188]
[null,null,"700xL",7277,8777,10797,12427,14187]
["Гранатовый амфиболит Нигозеро",null,"300xL,350хL,400xL",6943.4999999999991,8753.5,10793.5,12488.5,14068.499999999998]
[null,null,"500xL,600хL",7228,9108,11228,12988,14628]
[null,null,"700xL",7797,9817,12097,13987,15747]
["Дымовский          (Елизовский)",null,"300xL,350хL,400xL",6483.4999999999991,7488.4999999999991,9643.5,11108.5,12688.5]
[null,null,"500xL,600хL",6748,7788,10028,11548,13188]
[null,null,"700xL",7277,8387,10797,12427,14187]
["Балтийский",null,"300xL,350хL,400xL",6713.4999999999991,8063.4999999999991,9873.5,11338.5,12918.5]
[null,null,"500xL,600хL",6988,8388,10268,11788,13428]
[null,null,"700xL",7537,9037,11057,12687,14447]
["Жалгыз",null,"300xL,350хL,400xL",4643.5,5533.5,6538.5,7428.4999999999991,8778.5]
[null,null,"500xL,600хL",4828,5748,6788,7708,9108]
[null,null,"700xL",5197,6177,7287,8267,9767]
["Жельтау-1",null,"300xL,350хL,400xL",5908.5,7028.4999999999991,8378.5,9613.5,10503.5]
[null,null,"500xL,600хL",6148,7308,8708,9988,10908]
[null,null,"700xL",6627,7867,9367,10737,11717]
["Жельтау-2А",null,"300xL,350хL,400xL",5908.5,7028.4999999999991,8378.5,9613.5,10503.5]
[null,null,"500xL,600хL",6148,7308,8708,9988,10908]
[null,null,"700xL",6627,7867,9367,10737,11717]
["Лабрадорит Волга Блю",null,"300xL,350хL,400xL",11888.5,14733.499999999998,19188.5,22838.5,26373.499999999996]
[null,null,"500xL,600хL",12388,15348,19988,23788,27468]
[null,null,"700xL",13387,16577,21587,25687,29657]
["Камбулатовский",null,"300xL,350хL,400xL",4528.5,5533.5,6653.5,7658.4999999999991,8433.5]
[null,null,"500xL,600хL",4708,5748,6908,7948,8748]
[null,null,"700xL",5067,6177,7417,8527,9377]
["Капустинский",null,"300xL,350хL,400xL",8438.5,10018.5,12288.5,14788.499999999998,17288.5]
[null,null,"500xL,600хL",8788,10428,12788,15388,17988]
[null,null,"700xL",9487,11247,13787,16587,19387]
["Куртинский* ",null,"300xL,350хL,400xL",4758.5,5763.5,6883.4999999999991,7888.4999999999991,8663.5]
[null,null,"500xL,600хL",4948,5988,7148,8188,8988]
[null,null,"700xL",5327,6437,7677,8787,9637]
["Мансуровский",null,"300xL,350хL,400xL",5276,6510.9999999999991,7860.9999999999991,8923.5,9986]
[null,null,"500xL,600хL",5488,6768,8168,9268,10368]
[null,null,"700xL",5912,7282,8782,9957,11132]
["Неро Бухара",null,"300xL,350хL,400xL",5563.5,6798.4999999999991,7918.4999999999991,9268.5,11193.5]
[null,null,"500xL,600хL",5788,7068,8228,9628,11628]
[null,null,"700xL",6237,7607,8847,10347,12497]
["Покостовский",null,"300xL,350хL,400xL",6483.4999999999991,7833.4999999999991,9643.5,11223.5,12688.5]
[null,null,"500xL,600хL",6748,8148,10028,11668,13188]
[null,null,"700xL",7277,8777,10797,12557,14187]
["Сибирский",null,"300xL,350хL,400xL",5333.5,6568.4999999999991,7803.4999999999991,9038.5,9928.5]
[null,null,"500xL,550xL,600хL",5548,6828,8108,9388,10308]
[null,null,"650xL,700xL",5977,7347,8717,10087,11067]
["Южно-Султаевский",null,"300xL,350хL,400xL",5218.5,6453.5,7688.4999999999991,8808.5,9813.5]
[null,null,"500xL,550xL,600хL",5428,6708,7988,9148,10188]
[null,null,"650xL,700xL",5847,7217,8587,9827,10937]
["Габбро Другорецкое",null,"300xL,350хL,400xL",10890,13238.499999999998,22293.5,26633.499999999996,30743.499999999996]
[null,null,"500xL,550xL,600хL",12868,13788,23228,27748,32028]
[null,null,"650xL,700xL",13907,14887,25097,29977,34597]
["Примечание:"]
["1. Цена указана за 1 квадратный метр продукции, включая упаковку и погрузку на транспортное средство клиента"]
["2. На партии продукции более 1000 м2 предоставляются сезонные скидки"]
["3. При заказе нестандартной длины полосы действует наценка - 20%"]
["4. На партии продукции менее 50 м2 действует наценка - 10%"]
["5. На партии продукции менее 25 м2 действует наценка - 20%"]
["6. * - Цена указана за сорт \"стандарт\", за цвет \"люкс-темный\" действует наценка - 10%"]
["7. На дополнительную услугу - переборка изделий, включая распаковку, пересортировку и повторную упаковку, действует наценка - 20%  "]

{"sheet":"Слэбы гранитные ","index":4,"n_rows":112,"n_cols":10,"rows_kept":112,"cut":false,"hidden":false,"merged":[[91,4,91,5],[91,6,91,7],[91,8,91,9],[92,2,92,3],[92,4,92,5],[92,6,92,7],[92,8,92,9],[99,0,101,0],[99,1,101,1],[99,2,99,9],[100,2,100,3],[100,4,100,5],[100,6,100,7],[100,8,100,9],[101,2,101,3],[101,4,101,5],[101,6,101,7],[101,8,101,9],[96,0,98,0],[96,1,98,1],[96,2,96,9],[98,2,98,3],[98,4,98,5],[98,6,98,7],[38,2,38,9],[39,2,39,3],[39,4,39,5],[39,6,39,7],[39,8,39,9],[40,2,40,3],[40,4,40,5],[40,6,40,7],[40,8,40,9],[41,2,41,9],[42,2,42,3],[42,4,42,5],[42,6,42,7],[42,8,42,9],[43,2,43,3],[43,4,43,5],[43,6,43,7],[43,8,43,9],[35,2,35,9],[36,2,36,3],[36,4,36,5],[36,6,36,7],[36,8,36,9],[37,2,37,3],[37,4,37,5],[37,6,37,7],[37,8,37,9],[32,2,32,9],[33,2,33,3],[33,4,33,5],[33,6,33,7],[33,8,33,9],[34,2,34,3],[34,4,34,5],[34,6,34,7],[34,8,34,9],[29,2,29,9],[30,2,30,3],[30,4,30,5],[30,6,30,7],[30,8,30,9],[31,2,31,3],[31,4,31,5],[31,6,31,7],[31,8,31,9],[26,2,26,9],[27,2,27,3],[27,4,27,5],[27,6,27,7],[27,8,27,9],[28,2,28,3],[28,4,28,5],[28,6,28,7],[28,8,28,9],[23,2,23,9],[24,2,24,3],[24,4,24,5],[24,6,24,7],[24,8,24,9],[25,2,25,3],[25,4,25,5],[25,6,25,7],[25,8,25,9],[20,2,20,9],[21,2,21,3],[21,4,21,5],[21,6,21,7],[21,8,21,9],[22,2,22,3],[22,4,22,5],[22,6,22,7],[22,8,22,9],[17,2,17,9],[18,2,18,3],[18,4,18,5],[18,6,18,7],[18,8,18,9],[19,2,19,3],[19,4,19,5],[19,6,19,7],[19,8,19,9],[35,0,37,0],[35,1,37,1],[41,0,43,0],[41,1,43,1],[38,0,40,0],[38,1,40,1],[29,0,31,0],[29,1,31,1],[32,0,34,0],[32,1,34,1],[17,0,19,0],[17,1,19,1],[20,0,22,0],[20,1,22,1],[23,0,25,0],[23,1,25,1],[26,0,28,0],[26,1,28,1],[8,0,10,0],[8,1,10,1],[8,2,8,9],[9,2,9,3],[9,4,9,5],[9,6,9,7],[9,8,9,9],[10,2,10,3],[10,4,10,5],[10,6,10,7],[10,8,10,9],[16,2,16,3],[16,4,16,5],[16,6,16,7],[16,8,16,9],[14,0,16,0],[14,2,14,9],[15,2,15,3],[15,4,15,5],[15,6,15,7],[15,8,15,9],[13,2,13,3],[13,4,13,5],[13,6,13,7],[13,8,13,9],[11,0,13,0],[11,1,13,1],[11,2,11,9],[12,2,12,3],[12,4,12,5],[12,6,12,7],[12,8,12,9],[76,2,76,3],[74,2,74,3],[74,4,74,5],[74,6,74,7],[74,8,74,9],[76,4,76,5],[76,6,76,7],[76,8,76,9],[66,0,68,0],[66,1,68,1],[66,2,66,9],[68,2,68,3],[68,4,68,5],[68,6,68,7],[68,8,68,9],[67,2,67,3],[67,4,67,5],[67,6,67,7],[67,8,67,9],[77,4,77,5],[77,6,77,7],[77,8,77,9],[77,2,77,3],[69,0,71,0],[69,1,71,1],[69,2,69,9],[71,2,71,3],[71,4,71,5],[71,6,71,7],[71,8,71,9],[70,2,70,3],[70,4,70,5],[70,6,70,7],[70,8,70,9],[72,0,74,0],[72,2,72,9],[73,2,73,3],[73,4,73,5],[73,6,73,7],[73,8,73,9],[75,0,77,0],[75,1,77,1],[75,2,75,9],[80,6,80,7],[80,8,80,9],[79,2,79,3],[79,4,79,5],[79,6,79,7],[79,8,79,9],[78,0,80,0],[78,1,80,1],[78,2,78,9],[80,2,80,3],[80,4,80,5],[81,0,83,0],[81,1,83,1],[81,2,81,9],[83,2,83,3],[83,4,83,5],[83,6,83,7],[83,8,83,9],[82,2,82,3],[82,4,82,5],[82,6,82,7],[82,8,82,9],[84,0,86,0],[84,1,86,1],[84,2,84,9],[86,2,86,3],[86,4,86,5],[86,6,86,7],[86,8,86,9],[85,2,85,3],[85,4,85,5],[85,6,85,7],[85,8,85,9],[88,6,88,7],[88,8,88,9],[93,0,95,0],[93,1,95,1],[93,2,93,9],[95,2,95,3],[95,4,95,5],[95,6,95,7],[95,8,95,9],[94,2,94,3],[94,4,94,5],[94,6,94,7],[94,8,94,9],[87,0,89,0],[87,1,89,1],[87,2,87,9],[89,2,89,3],[89,4,89,5],[89,6,89,7],[89,8,89,9],[88,2,88,3],[88,4,88,5],[90,2,90,9],[91,2,91,3],[98,8,98,9],[97,2,97,3],[97,4,97,5],[97,6,97,7],[97,8,97,9],[102,0,104,0],[102,1,104,1],[102,2,102,9],[104,2,104,3],[104,4,104,5],[104,6,104,7],[104,8,104,9],[103,2,103,3],[103,4,103,5],[103,6,103,7],[103,8,103,9],[61,0,63,0],[61,1,63,1],[61,2,61,5],[61,6,61,9],[62,2,62,3],[62,4,62,5],[62,6,62,7],[62,8,62,9],[63,2,63,3],[63,4,63,5],[63,6,63,7],[63,8,63,9]]}
[]
[]
[]
["ОПТОВЫЕ ЦЕНЫ ",null,null,null,null,null,null,null,"Дата",{"$f":"TODAY()","v":"2025-06-01"}]
[null,null,null,null,null,null,null,null,"Курс USD",90]
["Московская обл., г. Реутов, ул. Фабричная, 4",null,null,null,null,null,null,null,null,"sale@graniteh.ru"]
["тел: (495) 777-60-74, 645-70-95  /  WhatsApp: (926) 746-68-07 ",null,null,null,null,null,null,null,null,"http://www.graniteh.ru"]
["Слэбы гранитные, собственного производства ",null,null,null,null,null,null,null,null,"со склада в г. Воскресенск (88км от МКАД)"]
["Ала-Носкуа   ",null,"Фактура поверхности: полированная, шлифованная, лощеная, термообработанная"]
[null,null,"h=20мм",null,"h=30мм",null,"h=40мм",null,"h=50мм"]
[null,null,{"$f":"'Плитка-производство Россия '!C13*1.35","v":6061.5},null,{"$f":"'Плитка-производство Россия '!D13*1.35","v":7276.5000000000009},null,{"$f":"'Плитка-производство Россия '!E13*1.35","v":8761.5},null,{"$f":"'Плитка-производство Россия '!F13*1.35","v":9976.5}]
["Возрождение    ",null,"Фактура поверхности: полированная, шлифованная, лощеная, термообработанная"]
[null,null,"h=20мм",null,"h=30мм",null,"h=40мм",null,"h=50мм"]
[null,null,{"$f":"'Плитка-производство Россия '!C16*1.35","v":7141.5000000000009},null,{"$f":"'Плитка-производство Россия '!D16*1.35","v":8491.5},null,{"$f":"'Плитка-производство Россия '!E16*1.35","v":10381.5},null,{"$f":"'Плитка-производство Россия '!F16*1.35","v":11866.5}]
["Гранатовый амфиболит Нигозеро",null,"Фактура поверхности: полированная, шлифованная, лощеная, термообработанная"]
[null,null,"h=20мм",null,"h=30мм",null,"h=40мм",null,"h=50мм"]
[null,null,{"$f":"'Плитка-производство Россия '!C19*1.35","v":7681.5000000000009},null,{"$f":"'Плитка-производство Россия '!D19*1.35","v":9571.5},null,{"$f":"'Плитка-производство Россия '!E19*1.35","v":11731.5},null,{"$f":"'Плитка-производство Россия '!F19*1.35","v":13486.5}]
["Дымовский                (сорт Экстра)",null,"Фактура поверхности: полированная, шлифованная, лощеная, термообработанная"]
[null,null,"h=20мм",null,"h=30мм",null,"h=40мм",null,"h=50мм"]
[null,null,{"$f":"'Плитка-производство Россия '!C22*1.35","v":7141.5000000000009},null,{"$f":"5990*1.35","v":8086.5000000000009},null,{"$f":"'Плитка-производство Россия '!E22*1.35","v":10381.5},null,{"$f":"'Плитка-производство Россия '!F22*1.35","v":11866.5}]
["Балтийский",null,"Фактура поверхности: полированная, шлифованная, лощеная, термообработанная"]
[null,null,"h=20мм",null,"h=30мм",null,"h=40мм",null,"h=50мм"]
[null,null,{"$f":"'Плитка-производство Россия '!C25*1.35","v":7411.5000000000009},null,{"$f":"'Плитка-производство Россия '!D25*1.35","v":8761.5},null,{"$f":"'Плитка-производство Россия '!E25*1.35","v":10651.5},null,{"$f":"'Плитка-производство Россия '!F25*1.35","v":12136.5}]
["Жельтау-1",null,"Фактура поверхности: полированная, шлифованная, лощеная, термообработанная"]
[null,null,"h=20мм",null,"h=30мм",null,"h=40мм",null,"h=50мм"]
[null,null,{"$f":"'Плитка-производство Россия '!C31*1.35","v":6466.5},null,{"$f":"'Плитка-производство Россия '!D31*1.35","v":7546.5000000000009},null,{"$f":"'Плитка-производство Россия '!E31*1.35","v":8896.5},null,{"$f":"'Плитка-производство Россия '!F31*1.35","v":10111.5}]
["Жельтау-2А",null,"Фактура поверхности: полированная, шлифованная, лощеная, термообработанная"]
[null,null,"h=20мм",null,"h=30мм",null,"h=40мм",null,"h=50мм"]
[null,null,{"$f":"'Плитка-производство Россия '!C34*1.35","v":6466.5},null,{"$f":"'Плитка-производство Россия '!D34*1.35","v":7546.5000000000009},null,{"$f":"'Плитка-производство Россия '!E34*1.35","v":8896.5},null,{"$f":"'Плитка-производство Россия '!F34*1.35","v":10111.5}]
["Капустинский",null,"Фактура поверхности: полированная, шлифованная, лощеная, термообработанная"]
[null,null,"h=20мм",null,"h=30мм",null,"h=40мм",null,"h=50мм"]
[null,null,{"$f":"'Плитка-производство Россия '!C43*1.35","v":9436.5},null,{"$f":"'Плитка-производство Россия '!D43*1.35","v":11056.5},null,{"$f":"'Плитка-производство Россия '!E43*1.35","v":13486.5},null,{"$f":"'Плитка-производство Россия '!F43*1.35","v":16186.500000000002}]
["Куртинский* ",null,"Фактура поверхности: полированная, шлифованная, лощеная, термообработанная"]
[null,null,"h=20мм",null,"h=30мм",null,"h=40мм",null,"h=50мм"]
[null,null,{"$f":"'Плитка-производство Россия '!C46*1.35","v":5116.5},null,{"$f":"'Плитка-производство Россия '!D46*1.35","v":6061.5},null,{"$f":"'Плитка-производство Россия '!E46*1.35","v":7141.5000000000009},null,{"$f":"'Плитка-производство Россия '!F46*1.35","v":8086.5000000000009}]
["Мансуровский",null,"Фактура поверхности: полированная, шлифованная, лощеная, термообработанная"]
[null,null,"h=20мм",null,"h=30мм",null,"h=40мм",null,"h=50мм"]
[null,null,{"$f":"'Плитка-производство Россия '!C49*1.35","v":5724},null,{"$f":"'Плитка-производство Россия '!D49*1.35","v":6939.0000000000009},null,{"$f":"'Плитка-производство Россия '!E49*1.35","v":8289},null,{"$f":"'Плитка-производство Россия '!F49*1.35","v":9301.5}]
["Неро Бухара",null,"Фактура поверхности: полированная, шлифованная, лощеная, термообработанная"]
[null,null,"h=20мм",null,"h=30мм",null,"h=40мм",null,"h=50мм"]
[null,null,{"$f":"'Плитка-производство Россия '!C52*1.35","v":6061.5},null,{"$f":"'Плитка-производство Россия '!D52*1.35","v":7276.5000000000009},null,{"$f":"'Плитка-производство Россия '!E52*1.35","v":8356.5},null,{"$f":"'Плитка-производство Россия '!F52*1.35","v":9706.5}]
["Южно-Султаевский",null,"Фактура поверхности: полированная, шлифованная, лощеная, термообработанная"]
[null,null,"h=20мм",null,"h=30мм",null,"h=40мм",null,"h=50мм"]
[null,null,{"$f":"'Плитка-производство Россия '!C61*1.35","v":5656.5},null,{"$f":"'Плитка-производство Россия '!D61*1.35","v":6871.5},null,{"$f":"'Плитка-производство Россия '!E61*1.35","v":8086.5000000000009},null,{"$f":"'Плитка-производство Россия '!F61*1.35","v":9166.5}]
["Примечание:"]
["1. Цена указана за 1 квадратный метр продукции, включая упаковку и погрузку на транспортное средство клиента"]
["2. На партии продукции более 1000 м2 предоставляются скидки"]
["3. На партии продукции менее 10 м2 действует наценка - 10%"]
["4. На партии продукции более 10 м2, но менее 25 м2 действует наценка - 5%"]
["5. В случае значительного изменения курсов валют, при расчете стоимости применяется текущий биржевой курс доллара США "]
["6. На дополнительную услугу - переборка изделий, включая распаковку, пересортировку и повторную упаковку, действует наценка - 20%  "]
[]
[]
[]
["ОПТОВЫЕ ЦЕНЫ "]
[]
[null,null,null,null,null,null,null,null,"Дата",{"$f":"TODAY()","v":"2025-06-01"}]
[]
["Московская обл., г. Реутов, ул. Фабричная, 4",null,null,null,null,null,null,null,null,"sale@graniteh.ru"]
["тел: (495) 777-60-74, 645-70-95  /  WhatsApp: (926) 746-68-07 ",null,null,null,null,null,null,null,null,"http://www.graniteh.ru"]
["Слэбы гранитные, производство - Индия, Китай (высший сорт) ",null,null,null,null,null,null,null,null,"со склада в Москве (500 м от МКАД)"]
["Абсолют Блек          (Absolute Black)     СКИДКА 15%",null,"h=20мм",null,null,null,"h=30мм"]
[null,null,"полировка",null,"термо",null,"полировка",null,"термо"]
[null,null,{"$f":"(J5*Лист4!C9/30)*0.85","v":9180},null,"-",null,{"$f":"(J5*Лист4!G9/30)*0.85","v":13005},null,"-"]
[]
["Слэбы гранитные, собственного производства ",null,null,null,null,null,null,null,null,"со склада в Москве (500 м от МКАД)"]
["Ала-Носкуа   ",null,"Фактура поверхности: полированная, шлифованная, лощеная, термообработанная"]
[null,null,"h=20мм",null,"h=30мм",null,"h=40мм",null,"h=50мм"]
[null,null,{"$f":"C11+400","v":6461.5},null,{"$f":"E11+600","v":7876.5000000000009},null,{"$f":"G11+800","v":9561.5},null,{"$f":"I11+1000","v":10976.5}]
["Возрождение    ",null,"Фактура поверхности: полированная, шлифованная, лощеная, термообработанная"]
[null,null,"h=20мм",null,"h=30мм",null,"h=40мм",null,"h=50мм"]
[null,null,{"$f":"C14+400","v":7541.5000000000009},null,{"$f":"E14+600","v":9091.5},null,{"$f":"G14+800","v":11181.5},null,{"$f":"I14+1000","v":12866.5}]
["Гранатовый амфиболит Нигозеро",null,"Фактура поверхности: полированная, шлифованная, лощеная, термообработанная"]
[null,null,"h=20мм",null,"h=30мм",null,"h=40мм",null,"h=50мм"]
[null,null,{"$f":"C17+400","v":8081.5000000000009},null,{"$f":"E17+600","v":10171.5},null,{"$f":"G17+800","v":12531.5},null,{"$f":"I17+1000","v":14486.5}]
["Дымовский             (сорт Экстра)",null,"Фактура поверхности: полированная, шлифованная, лощеная, термообработанная"]
[null,null,"h=20мм",null,"h=30мм",null,"h=40мм",null,"h=50мм"]
[null,null,{"$f":"C20+400","v":7541.5000000000009},null,{"$f":"E20+600","v":8686.5},null,{"$f":"G20+800","v":11181.5},null,{"$f":"I20+1000","v":12866.5}]
["Балтийский",null,"Фактура поверхности: полированная, шлифованная, лощеная, термообработанная"]
[null,null,"h=20мм",null,"h=30мм",null,"h=40мм",null,"h=50мм"]
[null,null,{"$f":"C23+400","v":7811.5000000000009},null,{"$f":"E23+600","v":9361.5},null,{"$f":"G23+800","v":11451.5},null,{"$f":"I23+1000","v":13136.5}]
["Жельтау-1",null,"Фактура поверхности: полированная, шлифованная, лощеная, термообработанная"]
[null,null,"h=20мм",null,"h=30мм",null,"h=40мм",null,"h=50мм"]
[null,null,{"$f":"C26+400","v":6866.5},null,{"$f":"E26+600","v":8146.5000000000009},null,{"$f":"G26+800","v":9696.5},null,{"$f":"I26+1000","v":11111.5}]
["Жельтау-2А",null,"Фактура поверхности: полированная, шлифованная, лощеная, термообработанная"]
[null,null,"h=20мм",null,"h=30мм",null,"h=40мм",null,"h=50мм"]
[null,null,{"$f":"C29+400","v":6866.5},null,{"$f":"E29+600","v":8146.5000000000009},null,{"$f":"G29+800","v":9696.5},null,{"$f":"I29+1000","v":11111.5}]
["Капустинский",null,"Фактура поверхности: полированная, шлифованная, лощеная, термообработанная"]
[null,null,"h=20мм",null,"h=30мм",null,"h=40мм",null,"h=50мм"]
[null,null,{"$f":"C32+400","v":9836.5},null,{"$f":"E32+600","v":11656.5},null,{"$f":"G32+800","v":14286.5},null,{"$f":"I32+1000","v":17186.5}]
["Калливолампи",null,"Фактура поверхности: полированная, шлифованная, лощеная, термообработанная"]
[null,null,"h=20мм",null,"h=30мм",null,"h=40мм",null,"h=50мм"]
[null,null,null,null,9990]
["Куртинский* ",null,"Фактура поверхности: полированная, шлифованная, лощеная, термообработанная"]
[null,null,"h=20мм",null,"h=30мм",null,"h=40мм",null,"h=50мм"]
[null,null,{"$f":"C35+400","v":5516.5},null,{"$f":"E35+600","v":6661.5},null,{"$f":"G35+800","v":7941.5000000000009},null,{"$f":"I35+1000","v":9086.5}]
["Мансуровский",null,"Фактура поверхности: полированная, шлифованная, лощеная, термообработанная"]
[null,null,"h=20мм",null,"h=30мм",null,"h=40мм",null,"h=50мм"]
[null,null,{"$f":"C38+400","v":6124},null,{"$f":"E38+600","v":7539.0000000000009},null,{"$f":"G38+800","v":9089},null,{"$f":"I38+1000","v":10301.5}]
["Неро Бухара",null,"Фактура поверхности: полированная, шлифованная, лощеная, термообработанная"]
[null,null,"h=20мм",null,"h=30мм",null,"h=40мм",null,"h=50мм"]
[null,null,{"$f":"C41+400","v":6461.5},null,{"$f":"E41+600","v":7876.5000000000009},null,{"$f":"G41+800","v":9156.5},null,{"$f":"I41+1000","v":10706.5}]
["Южно-Султаевский",null,"Фактура поверхности: полированная, шлифованная, лощеная, термообработанная"]
[null,null,"h=20мм",null,"h=30мм",null,"h=40мм",null,"h=50мм"]
[null,null,{"$f":"C44+400","v":6056.5},null,{"$f":"E44+600","v":7471.5},null,{"$f":"G44+800","v":8886.5},null,{"$f":"I44+1000","v":10166.5}]
["Примечание:"]
["1. Цена указана за 1 квадратный метр продукции, включая упаковку и погрузку на транспортное средство клиента"]
["2. На партии продукции более 1000 м2 предоставляются скидки"]
["3. На партии продукции менее 10 м2 действует наценка - 10%"]
["4. На партии продукции более 10 м2, но менее 25 м2 действует наценка - 5%"]
["5. В случае значительного изменения курсов валют, при расчете стоимости применяется текущий биржевой курс доллара США "]
["6. На дополнительную услугу - переборка изделий, включая распаковку, пересортировку и повторную упаковку, действует наценка - 20%  "]

{"sheet":"Лист4","index":5,"n_rows":12,"n_cols":9,"rows_kept":12,"cut":false,"hidden":true,"merged":[[6,0,8,0],[6,1,8,1],[9,0,11,0],[9,1,11,1],[9,2,9,5],[11,2,11,3],[11,4,11,5],[6,2,6,5],[11,8,11,9],[11,6,11,7],[8,2,8,3],[8,4,8,5],[8,6,8,7],[8,8,8,9],[9,6,9,9],[10,2,10,3],[10,4,10,5],[10,6,10,7],[10,8,10,9],[6,6,6,9],[7,2,7,3],[7,4,7,5],[7,6,7,7],[7,8,7,9]]}
[]
[]
[]
[]
[]
[]
["Абсолют",null,"h=20мм",null,null,null,"h=30мм"]
[null,null,"полировка",null,"термо",null,"полировка",null,"термо"]
[null,null,3600,null,null,null,5100]
["Royal White             \"Кантри\"                 G603",null,"h=20мм",null,null,null,"h=30мм"]
[null,null,"полировка",null,"термо",null,"полировка",null,"термо"]
[null,null,"-",null,null,null,null,null,1500]

{"sheet":"Брусчатка","index":6,"n_rows":65,"n_cols":9,"rows_kept":65,"cut":false,"hidden":false,"merged":[[11,0,13,0],[13,3,13,6],[11,1,13,2],[19,3,19,5],[22,3,22,5],[18,3,18,5],[20,3,20,5],[21,3,21,5],[17,0,19,0],[28,7,28,8],[10,2,10,4],[10,6,10,8],[11,3,11,6],[12,3,12,6],[25,7,25,8],[25,3,25,5],[24,7,24,8],[24,3,24,5],[17,7,17,8],[18,7,18,8],[17,3,17,5],[20,7,20,8],[23,3,23,5],[19,7,19,8],[21,7,21,8],[23,7,23,8],[22,7,22,8],[26,7,26,8],[27,3,27,5],[27,7,27,8],[26,3,26,5],[29,3,29,5],[20,0,22,0],[23,0,25,0],[26,0,28,0],[28,3,28,5],[41,0,43,0],[44,0,46,0],[29,0,31,0],[32,0,34,0],[35,0,37,0],[47,0,49,0],[50,0,52,0],[53,0,55,0],[29,7,29,8],[30,3,30,5],[30,7,30,8],[31,3,31,5],[31,7,31,8],[32,3,32,5],[32,7,32,8],[33,3,33,5],[33,7,33,8],[34,3,34,5],[34,7,34,8],[35,3,35,5],[38,0,40,0],[35,7,35,8],[36,3,36,5],[36,7,36,8],[37,3,37,5],[37,7,37,8],[38,3,38,5],[38,7,38,8],[39,3,39,5],[39,7,39,8],[40,3,40,5],[40,7,40,8],[41,3,41,5],[41,7,41,8],[42,3,42,5],[42,7,42,8],[43,3,43,5],[43,7,43,8],[44,3,44,5],[44,7,44,8],[45,3,45,5],[45,7,45,8],[46,3,46,5],[46,7,46,8],[47,3,47,5],[47,7,47,8],[48,3,48,5],[48,7,48,8],[49,3,49,5],[49,7,49,8],[50,3,50,5],[50,7,50,8],[51,3,51,5],[51,7,51,8],[52,3,52,5],[52,7,52,8],[53,3,53,5],[53,7,53,8],[54,3,54,5],[54,7,54,8],[55,3,55,5],[55,7,55,8]]}
[]
[]
["ОПТОВЫЕ ЦЕНЫ ",null,null,null,null,null,null,"Дата",{"$f":"TODAY()","v":"2025-06-01"}]
[]
[]
[]
["Московская обл., г. Реутов, ул. Фабричная, 4",null,null,null,null,null,null,null,"sale@graniteh.ru"]
["тел: (495) 777-60-74, 645-70-95  /  WhatsApp: (926) 746-68-07 ",null,null,null,null,null,null,null,"http://www.graniteh.ru"]
[]
["Брусчатка гранитная, пилено-колотая собственного производства ",null,null,null,null,null,null,null,"со склада в г. Воскресенск (88км от МКАД)"]
[]
["Все виды российских гранитов",null,null,"Пилено-колотая"]
[null,null,null,"Термообработанная ",null,null,null,null,"1990р."]
[null,null,null,"100х100х30"]
[]
[]
["Брусчатка полнопиленая гранитная собственного производства ",null,null,null,null,null,null,null,"со склада в г. Воскресенск (88км от МКАД)"]
["Ала-Носкуа   ",null,null,"Полнопиленая",null,null,"h=30",{"$f":"CEILING('Плитка-производство Россия '!D13*0.8,10)","v":4320}]
[null,null,null,"Термообработанная",null,null,"h=40",{"$f":"CEILING('Плитка-производство Россия '!E13*0.7,10)","v":4550}]
[null,null,null,"100х200 ",null,null,"h=50",{"$f":"CEILING('Плитка-производство Россия '!F13*0.8,10)","v":5920}]
["Возрождение    ",null,null,"Полнопиленая",null,null,"h=30",{"$f":"CEILING('Плитка-производство Россия '!D16*0.8,10)","v":5040}]
[null,null,null,"Термообработанная",null,null,"h=40",{"$f":"CEILING('Плитка-производство Россия '!E16*0.7,10)","v":5390}]
[null,null,null,"100х200 ",null,null,"h=50",{"$f":"CEILING('Плитка-производство Россия '!F16*0.65,10)","v":5720}]
["Гранатовый амфиболит Нигозеро",null,null,"Полнопиленая",null,null,"h=30",{"$f":"CEILING('Плитка-производство Россия '!D19*0.8,10)","v":5680}]
[null,null,null,"Термообработанная",null,null,"h=40",{"$f":"CEILING('Плитка-производство Россия '!E19*0.7,10)","v":6090}]
[null,null,null,"100х200 ",null,null,"h=50",{"$f":"CEILING('Плитка-производство Россия '!F19*0.65,10)","v":6500}]
["Дымовский (Елизовский)",null,null,"Полнопиленая",null,null,"h=30",{"$f":"CEILING('Плитка-производство Россия '!D22*0.85,10)","v":5520}]
[null,null,null,"Термообработанная",null,null,"h=40",{"$f":"CEILING('Плитка-производство Россия '!E22*0.75,10)","v":5770}]
[null,null,null,"100х200 ",null,null,"h=50",{"$f":"CEILING('Плитка-производство Россия '!F22*0.7,10)","v":6160}]
["Жалгыз",null,null,"Полнопиленая",null,null,"h=30",{"$f":"CEILING('Плитка-производство Россия '!D28*0.9,10)","v":3870}]
[null,null,null,"Термообработанная",null,null,"h=40",{"$f":"CEILING('Плитка-производство Россия '!E28*0.8,10)","v":4000}]
[null,null,null,"100х200 ",null,null,"h=50",{"$f":"CEILING('Плитка-производство Россия '!F28*0.75,10)","v":4200}]
["Жельтау-1",null,null,"Полнопиленая",null,null,"h=30",{"$f":"CEILING('Плитка-производство Россия '!D31*0.9,10)","v":5040}]
[null,null,null,"Термообработанная",null,null,"h=40",{"$f":"CEILING('Плитка-производство Россия '!E31*0.8,10)","v":5280}]
[null,null,null,"100х200 ",null,null,"h=50",{"$f":"CEILING('Плитка-производство Россия '!F31*0.75,10)","v":5620}]
["Жельтау-2А",null,null,"Полнопиленая",null,null,"h=30",{"$f":"'Плитка-производство Россия '!D34*0.9","v":5031}]
[null,null,null,"Термообработанная",null,null,"h=40",{"$f":"'Плитка-производство Россия '!E34*0.8","v":5272}]
[null,null,null,"100х200 ",null,null,"h=50",{"$f":"'Плитка-производство Россия '!F34*0.75","v":5617.5}]
["Капустинский",null,null,"Полнопиленая",null,null,"h=30",{"$f":"'Плитка-производство Россия '!D43*0.8","v":6552}]
[null,null,null,"Термообработанная",null,null,"h=40",{"$f":"'Плитка-производство Россия '!E43*0.7","v":6993}]
[null,null,null,"100х200 ",null,null,"h=50",{"$f":"'Плитка-производство Россия '!F43*0.65","v":7793.5}]
["Куртинский",null,null,"Полнопиленая",null,null,"h=30",{"$f":"'Плитка-производство Россия '!D46","v":4490}]
[null,null,null,"Термообработанная",null,null,"h=40",{"$f":"CEILING('Плитка-производство Россия '!E46*0.9,10)","v":4770}]
[null,null,null,"100х200 ",null,null,"h=50",{"$f":"CEILING('Плитка-производство Россия '!F46*0.85,10)","v":5100}]
["Мансуровский",null,null,"Полнопиленая",null,null,"h=30",{"$f":"CEILING('Плитка-производство Россия '!D49*0.9,10)","v":4630}]
[null,null,null,"Термообработанная",null,null,"h=40",{"$f":"CEILING('Плитка-производство Россия '!E49*0.8,10)","v":4920}]
[null,null,null,"100х200 ",null,null,"h=50",{"$f":"CEILING('Плитка-производство Россия '!F49*0.75,10)","v":5170}]
["Покостовский",null,null,"Полнопиленая",null,null,"h=30",{"$f":"CEILING('Плитка-производство Россия '!D55*0.8,10)","v":5040}]
[null,null,null,"Термообработанная",null,null,"h=40",{"$f":"CEILING('Плитка-производство Россия '!E55*0.7,10)","v":5390}]
[null,null,null,"100х200 ",null,null,"h=50",{"$f":"CEILING('Плитка-производство Россия '!F55*0.65,10)","v":5780}]
["Южно-Султаевский",null,null,"Полнопиленая",null,null,"h=30",{"$f":"CEILING('Плитка-производство Россия '!D61*0.9,10)","v":4590}]
[null,null,null,"Термообработанная",null,null,"h=40",{"$f":"CEILING('Плитка-производство Россия '!E61*0.8,10)","v":4800}]
[null,null,null,"100х200 ",null,null,"h=50",{"$f":"CEILING('Плитка-производство Россия '!F61*0.75,10)","v":5100}]
["Габбро Другорецкое",null,null,"Полнопиленая",null,null,"h=30",{"$f":"CEILING('Плитка-производство Россия '!D64*0.9,10)","v":9900}]
[null,null,null,"Термообработанная",null,null,"h=40",{"$f":"CEILING('Плитка-производство Россия '!E64*0.8,10)","v":14960}]
[null,null,null,"100х200 ",null,null,"h=50",{"$f":"CEILING('Плитка-производство Россия '!F64*0.75,10)","v":16720}]
["Примечание:"]
["1. Цена указана за 1 квадратный метр продукции, включая упаковку и погрузку на транспортное средство клиента"]
["2. На партии продукции более 1000 м2 предоставляются скидки"]
["3. На партии продукции менее 10 м2 действует наценка - 10%"]
["4. На партии продукции более 10 м2, но менее 25 м2 действует наценка - 5%"]
["5. В случае значительного изменения курсов валют, при расчете стоимости применяется текущий биржевой курс доллара США "]
["6. Стоимость брусчатки актуальна только для имеющейся в наличии на складе"]
["7. На дополнительную услугу - переборка изделий, включая распаковку, пересортировку и повторную упаковку, действует наценка - 20%  "]
["8. При отгрузке со склада в г. Реутов применяется наценка: 30мм - 600руб/м2, 40мм - 800руб/м2, 50 мм - 1000руб/м2 , 60мм -1200руб/м2 "]

{"sheet":"Лист5","index":7,"n_rows":23,"n_cols":9,"rows_kept":23,"cut":false,"hidden":true,"merged":[[9,2,9,4],[9,6,9,8],[10,0,13,0],[10,1,13,2],[10,3,10,6],[11,3,11,6],[12,3,12,6],[13,3,13,6],[14,0,16,0],[14,1,16,2],[14,3,14,6],[15,3,15,6],[16,3,16,6],[17,0,19,0],[17,1,19,2],[17,3,17,6],[18,3,18,6],[19,3,19,6],[20,0,22,0],[20,1,22,2],[20,3,20,6],[21,3,21,6],[22,3,22,6]]}
[]
[]
[]
[]
[]
["Московская обл., г. Реутов, ул. Фабричная, 4",null,null,null,null,null,null,null,"info@graniteh.ru"]
["тел: (495) 777-60-74, 645-70-95  /  факс: (495) 777-60-74 ",null,null,null,null,null,null,null,"http://www.graniteh.ru"]
[]
["Брусчатка гранитная, производство - Китай (высший сорт) ",null,null,null,null,null,null,null,"со склада в Москве (500 м от МКАД)"]
[]
["Maple Red        Мапл Рэд           G562",null,null,"Полнопиленая"]
[null,null,null,"Термообработанная "]
[null,null,null,"200х100х30",null,null,null,null,1740]
[null,null,null,"200х100х50",null,null,null,null,1080]
["Padang Dark     \"Цезарь\"         G654",null,null,"Полнопиленая"]
[null,null,null,"Термообработанная ",null,null,null,null,1500]
[null,null,null,"200х100х50",null,null,null,null,1080]
["Royal White             \"Кантри\"                 G603",null,null,"Полнопиленая"]
[null,null,null,"Термообработанная ",null,null,null,null,1530]
[null,null,null,"200х100х50",null,null,null,null,1920]
["Bainbrook Brown        \"Альтернатива\"        G664",null,null,"Полнопиленая"]
[null,null,null,"Термообработанная ",null,null,null,null,1530]
[null,null,null,"200х100х50",null,null,null,null,1830]

{"sheet":"Лист6","index":8,"n_rows":47,"n_cols":10,"rows_kept":47,"cut":false,"hidden":true,"merged":[[42,3,43,4],[44,9,45,9],[46,1,47,1],[46,2,47,2],[46,3,47,4],[46,5,47,8],[46,9,47,9],[42,5,43,8],[42,9,43,9],[44,0,47,0],[44,1,45,1],[44,2,45,2],[44,3,45,4],[44,5,45,8],[38,9,39,9],[36,0,39,0],[36,1,37,1],[36,2,37,2],[36,3,37,4],[36,5,37,8],[36,9,37,9],[38,1,39,1],[38,2,39,2],[38,3,39,4],[38,5,39,8],[42,0,43,0],[42,1,43,1],[42,2,43,2],[34,9,35,9],[29,7,29,8],[30,0,31,0],[30,1,30,2],[30,3,30,4],[30,5,30,6],[30,7,30,8],[31,1,31,2],[31,3,31,4],[31,5,31,6],[31,7,31,8],[34,0,35,0],[34,1,35,1],[34,2,35,2],[34,3,35,4],[34,5,35,8],[28,0,29,0],[28,1,28,2],[28,3,28,4],[28,5,28,6],[28,7,28,8],[29,1,29,2],[29,3,29,4],[29,5,29,6],[26,0,27,0],[26,1,26,2],[26,3,26,4],[26,5,26,6],[26,7,26,8],[27,1,27,2],[27,3,27,4],[27,5,27,6],[27,7,27,8],[24,0,25,0],[24,1,24,2],[24,3,24,4],[24,5,24,6],[24,7,24,8],[25,1,25,2],[25,3,25,4],[25,5,25,6],[25,7,25,8],[23,1,23,2],[23,3,23,4],[23,5,23,6],[23,7,23,8],[13,7,13,8],[14,1,14,2],[14,7,14,8],[17,0,20,0],[17,1,17,2],[17,7,17,8],[19,1,19,2],[19,7,19,8],[20,1,20,2],[20,7,20,8],[10,0,14,0],[10,1,10,2],[10,7,10,8],[11,1,11,2],[11,7,11,8],[12,1,12,2],[12,7,12,8],[13,1,13,2]]}
[]
[]
[]
[]
[]
[]
[]
[]
[]
[]
[null,null,null,null,null,null,null,null,null,"Цена,            руб."]
[null,null,null,null,null,null,null,null,null,2700]
[null,null,null,null,null,null,null,null,null,3240]
[null,null,null,null,null,null,null,null,null,4320]
[null,null,null,null,null,null,null,null,null,5310]
[]
[]
[null,null,null,null,null,null,null,null,null,"Цена,            руб."]
[null,null,null,null,null,null,null,null,null,294]
[null,null,null,null,null,null,null,null,null,315]
[null,null,null,null,null,null,null,null,null,744]
[]
[]
[]
[null,null,null,null,null,null,null,null,null,3600]
[]
[]
[null,null,null,null,null,null,null,null,null,4640]
[]
[null,null,null,null,null,null,null,null,null,4640]
[null,null,null,null,null,null,null,null,null,3600]
[null,null,null,null,null,null,null,null,null,4640]
[]
[]
[]
[]
[null,null,null,null,null,null,null,null,null,160]
[]
[null,null,null,null,null,null,null,null,null,200]
[]
[]
[]
[]
[]
[null,null,null,null,null,null,null,null,null,208]
[]
[null,null,null,null,null,null,null,null,null,248]

{"sheet":"Профилирование","index":9,"n_rows":26,"n_cols":9,"rows_kept":26,"cut":false,"hidden":false,"merged":[[24,0,25,0],[24,1,25,2],[24,3,24,4],[25,3,25,4],[24,5,24,6],[25,5,25,6],[20,1,21,2],[20,0,21,0],[23,5,23,6],[22,5,22,6],[22,3,22,4],[20,3,20,4],[22,0,23,0],[21,3,21,4],[23,3,23,4],[22,1,23,2],[20,5,20,6],[21,5,21,6],[16,5,16,6],[17,5,17,6],[18,5,18,6],[19,5,19,6],[14,1,15,2],[14,3,14,4],[19,3,19,4],[16,3,16,4],[17,3,17,4],[18,3,18,4],[15,3,15,4],[14,0,15,0],[16,0,17,0],[18,0,19,0],[16,1,17,2],[18,1,19,2],[16,7,16,8],[17,7,17,8],[18,7,18,8],[21,7,21,8],[20,7,20,8],[22,7,22,8],[23,7,23,8],[24,7,24,8],[25,7,25,8],[19,7,19,8],[10,0,11,0],[10,1,11,2],[10,3,11,4],[11,5,11,6],[11,7,11,8],[10,5,10,8],[12,7,12,8],[13,7,13,8],[14,7,14,8],[15,7,15,8],[13,5,13,6],[14,5,14,6],[15,5,15,6],[12,0,13,0],[12,1,13,2],[12,3,12,4],[13,3,13,4],[12,5,12,6]]}
[]
[]
[]
[]
[]
["Московская обл., г. Реутов, ул. Фабричная, 4",null,null,null,null,null,null,null,"sale@graniteh.ru"]
["тел: (495) 777-60-74, 645-70-95  /  WhatsApp: (926) 746-68-07 ",null,null,null,null,null,null,null,"http://www.graniteh.ru"]
[]
["Профессиональное изготовление профилей на собственном пр-ве в г.Воскресенск МО"]
[]
["Артикул","Вид",null,"Толщина",null,"Цена, руб. (без НДС)"]
[null,null,null,null,null,"Полированный",null,"Шлифованный"]
[null,null,null,"20мм",null,"от 800",null,"от 750"]
[null,null,null,"30мм",null,"от 600",null,"от 500"]
["E          (5мм)",null,null,"20мм",null,"от 700",null,"от 450"]
[null,null,null,"30мм",null,"от 1100",null,"от 700"]
["А        (R=10-15)",null,null,"20мм",null,"от 1100",null,"от 700"]
[null,null,null,"30мм",null,"от 1300",null,"от 850"]
["V",null,null,"20мм",null,"от 1650",null,"от 1050"]
[null,null,null,"30мм",null,"от 2000",null,"от 1300"]
["L",null,null,"20мм",null,"от 2250",null,"от 1650"]
[null,null,null,"30мм",null,"от 2700",null,"от 2000"]
["H",null,null,"20мм",null,"от 2400",null,"от 1750"]
[null,null,null,"30мм",null,"от 2900",null,"от 2100"]
["O",null,null,"20мм",null,"-",null,"-"]
[null,null,null,"30мм",null,"от 3450",null,"от 2500"]

{"sheet":"Инструмент","index":10,"n_rows":47,"n_cols":10,"rows_kept":47,"cut":false,"hidden":false,"merged":[[42,9,43,9],[44,0,47,0],[44,1,45,1],[44,2,45,2],[44,3,45,4],[44,5,45,8],[44,9,45,9],[46,1,47,1],[46,2,47,2],[46,3,47,4],[46,5,47,8],[46,9,47,9],[42,0,43,0],[42,1,43,1],[42,2,43,2],[42,3,43,4],[42,5,43,8],[27,1,27,2],[25,1,25,2],[10,1,10,2],[34,2,35,2],[12,1,12,2],[29,1,29,2],[26,1,26,2],[17,1,17,2],[19,1,19,2],[20,1,20,2],[28,7,28,8],[31,1,31,2],[31,7,31,8],[30,1,30,2],[30,5,30,6],[10,0,14,0],[34,0,35,0],[24,0,25,0],[26,0,27,0],[28,0,29,0],[30,0,31,0],[17,0,20,0],[38,9,39,9],[36,0,39,0],[34,9,35,9],[36,5,37,8],[38,5,39,8],[36,3,37,4],[34,5,35,8],[36,9,37,9],[38,3,39,4],[36,2,37,2],[38,2,39,2],[36,1,37,1],[38,1,39,1],[34,3,35,4],[34,1,35,1],[30,3,30,4],[31,5,31,6],[28,5,28,6],[30,7,30,8],[31,3,31,4],[27,7,27,8],[29,7,29,8],[28,1,28,2],[25,7,25,8],[24,3,24,4],[25,3,25,4],[25,5,25,6],[29,5,29,6],[28,3,28,4],[29,3,29,4],[26,7,26,8],[26,3,26,4],[27,3,27,4],[26,5,26,6],[27,5,27,6],[24,1,24,2],[10,7,10,8],[13,1,13,2],[13,7,13,8],[23,3,23,4],[23,5,23,6],[23,1,23,2],[23,7,23,8],[11,1,11,2],[11,7,11,8],[17,7,17,8],[19,7,19,8],[20,7,20,8],[24,7,24,8],[24,5,24,6],[12,7,12,8],[14,1,14,2],[14,7,14,8],[18,1,18,2],[18,7,18,8]]}
[]
[]
[null,null,null,null,null,null,null,null,"Дата",{"$f":"TODAY()","v":"2025-06-01"}]
[null,null,null,null,null,null,null,null,"Курс USD",90]
[]
["Московская обл., г. Реутов, ул. Фабричная, 4",null,null,null,null,null,null,null,null,"sale@graniteh.ru"]
["тел: (495) 777-60-74, 645-70-95  /  WhatsApp: (926) 746-68-07 ",null,null,null,null,null,null,null,null,"http://www.graniteh.ru"]
["Камнеобрабатывающий инструмент пр-во - Китай (высший сорт) ",null,null,null,null,null,null,null,null,"со склада в Москве (500 м от МКАД)"]
[]
["Алмазные отрезные сегментные диски"]
[null,"Артикул",null,"Посадочное отверстие","Диаметр, мм","Кол-во сегментов","Размер сегментов","Используемый материал",null,"Цена,            руб."]
[null,"D350",null,"60 / 50",350,24,"40х3х12","твердый гранит",null,{"$f":"Лист6!J12*$J$4/30","v":8100}]
[null,"D400",null,"60 / 50",400,28,"40х3х12","твердый гранит",null,{"$f":"Лист6!J13*$J$4/30","v":9720}]
[null,"D500",null,"60 / 50",500,65,"20х3х12","твердый гранит",null,{"$f":"Лист6!J14*$J$4/30","v":12960}]
[null,"D550",null,"60 / 50",55,40,"40х3х12","твердый гранит",null,{"$f":"Лист6!J15*$J$4/30","v":15930}]
[]
["Диски \"ТУРБО\" для сухой резки гранита"]
[null,"Артикул",null,"Посадочное отверстие","Диаметр, мм","Толщина, мм","Кол-во сегментов","Используемый материал",null,"Цена,            руб."]
[null,"T115",null,22.23,115,2,9,"твердый гранит",null,{"$f":"Лист6!J19*$J$4/30","v":882}]
[null,"T125",null,22.23,125,2,10,"твердый гранит",null,{"$f":"Лист6!J20*$J$4/30","v":945}]
[null,"T230",null,22.23,230,3,112,"твердый гранит",null,{"$f":"Лист6!J21*$J$4/30","v":2232}]
[]
["Профильные ролики (фрезы) для ручных машин типа MASTER, SECTOR, FLEX"]
["Внешний вид","Артикул",null,"Крепление",null,"Диаметр, мм",null,"Используемый материал",null,"Цена,            руб."]
[null,"FA20",null,"М14",null,70,null,"твердый гранит",null,{"$f":"Лист6!J25*$J$4/30","v":10800}]
[null,"FA30"]
[null,"FB20"]
[null,"FB30",null,"М14",null,100,null,"твердый гранит",null,{"$f":"Лист6!J28*$J$4/30","v":13920}]
[null,"FE20"]
[null,"FE30",null,"М14",null,100,null,"твердый гранит",null,{"$f":"Лист6!J30*$J$4/30","v":13920}]
[null,"FV20",null,"М14",null,60,null,"гранит, мрамор",null,{"$f":"Лист6!J31*$J$4/30","v":10800}]
[null,"FV30",null,"М14",null,70,null,"гранит, мрамор",null,{"$f":"Лист6!J32*$J$4/30","v":13920}]
[]
["Алмазные гибкие диски (черепашки)"]
["Внешний вид","Арти-кул","Диаметр, мм","Вид обработки",null,"Номера, Mesh",null,null,null,"Цена, руб."]
[]
[null,"СM",100,"С водой",null,"30# 50# 100# 200# 400# 800# 1500# 3000# BUFF#",null,null,null,{"$f":"Лист6!J37*Инструмент!$J$4/30","v":480}]
[]
[null,"CS",100,"Без воды",null,"50# 100# 200# 400# 800# 1500# 3000# BUFF#",null,null,null,{"$f":"Лист6!J39*Инструмент!$J$4/30","v":600}]
[]
[]
["Улучшенные алмазные гибкие диски \"Konigsberg\" (черепашки)"]
["Внешний вид","Арти-кул","Диаметр, мм","Вид обработки",null,"Номера, Mesh",null,null,null,"Цена, руб."]
[]
[null,"СM",100,"С водой",null,"50# 100# 200# 400# 800# 1500# 3000# BUFF#",null,null,null,{"$f":"Лист6!J45*Инструмент!$J$4/30","v":624}]
[]
[null,"CS",100,"Без воды",null,"50# 100# 200# 400# 800# 1500# 3000# BUFF#",null,null,null,{"$f":"Лист6!J47*Инструмент!$J$4/30","v":744}]